BEGIN:VCALENDAR
VERSION:2.0
PRODID:-//Chichester BID - ECPv6.15.20//NONSGML v1.0//EN
CALSCALE:GREGORIAN
METHOD:PUBLISH
X-WR-CALNAME:Chichester BID
X-ORIGINAL-URL:https://chichesterbid.co.uk
X-WR-CALDESC:Events for Chichester BID
REFRESH-INTERVAL;VALUE=DURATION:PT1H
X-Robots-Tag:noindex
X-PUBLISHED-TTL:PT1H
BEGIN:VTIMEZONE
TZID:UTC
BEGIN:STANDARD
TZOFFSETFROM:+0000
TZOFFSETTO:+0000
TZNAME:UTC
DTSTART:20230101T000000
END:STANDARD
END:VTIMEZONE
BEGIN:VEVENT
DTSTART;TZID=UTC:20240703T200000
DTEND;TZID=UTC:20240703T200000
DTSTAMP:20260421T231607
CREATED:20240507T105502Z
LAST-MODIFIED:20251016T114113Z
UID:10013306-1720036800-1720036800@chichesterbid.co.uk
SUMMARY:Open Mic Night at Havana
DESCRIPTION:Join Havana every Wednesday for their Open Mic Night with Toby Bain.
URL:https://chichesterbid.co.uk/event/open-mic-night-at-havana-2/2024-07-03/
LOCATION:The Havana\, 3 Little London\, Chichester\, PO19 1PH
CATEGORIES:Alive after Five,Regular Events
ATTACH;FMTTYPE=image/jpeg:https://chichesterbid.co.uk/wp-content/uploads/2024/05/IMG-20251001-WA0008.jpg
END:VEVENT
BEGIN:VEVENT
DTSTART;TZID=UTC:20240626T200000
DTEND;TZID=UTC:20240626T200000
DTSTAMP:20260421T231607
CREATED:20240507T105502Z
LAST-MODIFIED:20251016T114113Z
UID:10013305-1719432000-1719432000@chichesterbid.co.uk
SUMMARY:Open Mic Night at Havana
DESCRIPTION:Join Havana every Wednesday for their Open Mic Night with Toby Bain.
URL:https://chichesterbid.co.uk/event/open-mic-night-at-havana-2/2024-06-26/
LOCATION:The Havana\, 3 Little London\, Chichester\, PO19 1PH
CATEGORIES:Alive after Five,Regular Events
ATTACH;FMTTYPE=image/jpeg:https://chichesterbid.co.uk/wp-content/uploads/2024/05/IMG-20251001-WA0008.jpg
END:VEVENT
BEGIN:VEVENT
DTSTART;TZID=UTC:20240619T200000
DTEND;TZID=UTC:20240619T200000
DTSTAMP:20260421T231607
CREATED:20240507T105502Z
LAST-MODIFIED:20251016T114113Z
UID:10013304-1718827200-1718827200@chichesterbid.co.uk
SUMMARY:Open Mic Night at Havana
DESCRIPTION:Join Havana every Wednesday for their Open Mic Night with Toby Bain.
URL:https://chichesterbid.co.uk/event/open-mic-night-at-havana-2/2024-06-19/
LOCATION:The Havana\, 3 Little London\, Chichester\, PO19 1PH
CATEGORIES:Alive after Five,Regular Events
ATTACH;FMTTYPE=image/jpeg:https://chichesterbid.co.uk/wp-content/uploads/2024/05/IMG-20251001-WA0008.jpg
END:VEVENT
BEGIN:VEVENT
DTSTART;TZID=UTC:20240612T200000
DTEND;TZID=UTC:20240612T200000
DTSTAMP:20260421T231607
CREATED:20240507T105502Z
LAST-MODIFIED:20251016T114113Z
UID:10013303-1718222400-1718222400@chichesterbid.co.uk
SUMMARY:Open Mic Night at Havana
DESCRIPTION:Join Havana every Wednesday for their Open Mic Night with Toby Bain.
URL:https://chichesterbid.co.uk/event/open-mic-night-at-havana-2/2024-06-12/
LOCATION:The Havana\, 3 Little London\, Chichester\, PO19 1PH
CATEGORIES:Alive after Five,Regular Events
ATTACH;FMTTYPE=image/jpeg:https://chichesterbid.co.uk/wp-content/uploads/2024/05/IMG-20251001-WA0008.jpg
END:VEVENT
BEGIN:VEVENT
DTSTART;TZID=UTC:20240605T200000
DTEND;TZID=UTC:20240605T200000
DTSTAMP:20260421T231607
CREATED:20240507T105502Z
LAST-MODIFIED:20251016T114113Z
UID:10013302-1717617600-1717617600@chichesterbid.co.uk
SUMMARY:Open Mic Night at Havana
DESCRIPTION:Join Havana every Wednesday for their Open Mic Night with Toby Bain.
URL:https://chichesterbid.co.uk/event/open-mic-night-at-havana-2/2024-06-05/
LOCATION:The Havana\, 3 Little London\, Chichester\, PO19 1PH
CATEGORIES:Alive after Five,Regular Events
ATTACH;FMTTYPE=image/jpeg:https://chichesterbid.co.uk/wp-content/uploads/2024/05/IMG-20251001-WA0008.jpg
END:VEVENT
BEGIN:VEVENT
DTSTART;TZID=UTC:20240529T200000
DTEND;TZID=UTC:20240529T200000
DTSTAMP:20260421T231607
CREATED:20240507T105502Z
LAST-MODIFIED:20251016T114113Z
UID:10013301-1717012800-1717012800@chichesterbid.co.uk
SUMMARY:Open Mic Night at Havana
DESCRIPTION:Join Havana every Wednesday for their Open Mic Night with Toby Bain.
URL:https://chichesterbid.co.uk/event/open-mic-night-at-havana-2/2024-05-29/
LOCATION:The Havana\, 3 Little London\, Chichester\, PO19 1PH
CATEGORIES:Alive after Five,Regular Events
ATTACH;FMTTYPE=image/jpeg:https://chichesterbid.co.uk/wp-content/uploads/2024/05/IMG-20251001-WA0008.jpg
END:VEVENT
BEGIN:VEVENT
DTSTART;TZID=UTC:20240522T200000
DTEND;TZID=UTC:20240522T200000
DTSTAMP:20260421T231607
CREATED:20240507T105502Z
LAST-MODIFIED:20251016T114113Z
UID:10013300-1716408000-1716408000@chichesterbid.co.uk
SUMMARY:Open Mic Night at Havana
DESCRIPTION:Join Havana every Wednesday for their Open Mic Night with Toby Bain.
URL:https://chichesterbid.co.uk/event/open-mic-night-at-havana-2/2024-05-22/
LOCATION:The Havana\, 3 Little London\, Chichester\, PO19 1PH
CATEGORIES:Alive after Five,Regular Events
ATTACH;FMTTYPE=image/jpeg:https://chichesterbid.co.uk/wp-content/uploads/2024/05/IMG-20251001-WA0008.jpg
END:VEVENT
BEGIN:VEVENT
DTSTART;TZID=UTC:20240515T200000
DTEND;TZID=UTC:20240515T200000
DTSTAMP:20260421T231607
CREATED:20240507T105502Z
LAST-MODIFIED:20251016T114113Z
UID:10013299-1715803200-1715803200@chichesterbid.co.uk
SUMMARY:Open Mic Night at Havana
DESCRIPTION:Join Havana every Wednesday for their Open Mic Night with Toby Bain.
URL:https://chichesterbid.co.uk/event/open-mic-night-at-havana-2/2024-05-15/
LOCATION:The Havana\, 3 Little London\, Chichester\, PO19 1PH
CATEGORIES:Alive after Five,Regular Events
ATTACH;FMTTYPE=image/jpeg:https://chichesterbid.co.uk/wp-content/uploads/2024/05/IMG-20251001-WA0008.jpg
END:VEVENT
BEGIN:VEVENT
DTSTART;TZID=UTC:20240508T200000
DTEND;TZID=UTC:20240508T200000
DTSTAMP:20260421T231607
CREATED:20240507T105502Z
LAST-MODIFIED:20251016T114113Z
UID:10013298-1715198400-1715198400@chichesterbid.co.uk
SUMMARY:Open Mic Night at Havana
DESCRIPTION:Join Havana every Wednesday for their Open Mic Night with Toby Bain.
URL:https://chichesterbid.co.uk/event/open-mic-night-at-havana-2/2024-05-08/
LOCATION:The Havana\, 3 Little London\, Chichester\, PO19 1PH
CATEGORIES:Alive after Five,Regular Events
ATTACH;FMTTYPE=image/jpeg:https://chichesterbid.co.uk/wp-content/uploads/2024/05/IMG-20251001-WA0008.jpg
END:VEVENT
END:VCALENDAR