BEGIN:VCALENDAR
VERSION:2.0
PRODID:-//Chichester BID - ECPv6.15.20//NONSGML v1.0//EN
CALSCALE:GREGORIAN
METHOD:PUBLISH
X-WR-CALNAME:Chichester BID
X-ORIGINAL-URL:https://chichesterbid.co.uk
X-WR-CALDESC:Events for Chichester BID
REFRESH-INTERVAL;VALUE=DURATION:PT1H
X-Robots-Tag:noindex
X-PUBLISHED-TTL:PT1H
BEGIN:VTIMEZONE
TZID:UTC
BEGIN:STANDARD
TZOFFSETFROM:+0000
TZOFFSETTO:+0000
TZNAME:UTC
DTSTART:20230101T000000
END:STANDARD
END:VTIMEZONE
BEGIN:VEVENT
DTSTART;TZID=UTC:20250312T200000
DTEND;TZID=UTC:20250312T200000
DTSTAMP:20260421T002723
CREATED:20240507T105502Z
LAST-MODIFIED:20251016T114113Z
UID:10013342-1741809600-1741809600@chichesterbid.co.uk
SUMMARY:Open Mic Night at Havana
DESCRIPTION:Join Havana every Wednesday for their Open Mic Night with Toby Bain.
URL:https://chichesterbid.co.uk/event/open-mic-night-at-havana-2/2025-03-12/
LOCATION:The Havana\, 3 Little London\, Chichester\, PO19 1PH
CATEGORIES:Alive after Five,Regular Events
ATTACH;FMTTYPE=image/jpeg:https://chichesterbid.co.uk/wp-content/uploads/2024/05/IMG-20251001-WA0008.jpg
END:VEVENT
BEGIN:VEVENT
DTSTART;TZID=UTC:20250305T200000
DTEND;TZID=UTC:20250305T200000
DTSTAMP:20260421T002723
CREATED:20240507T105502Z
LAST-MODIFIED:20251016T114113Z
UID:10013341-1741204800-1741204800@chichesterbid.co.uk
SUMMARY:Open Mic Night at Havana
DESCRIPTION:Join Havana every Wednesday for their Open Mic Night with Toby Bain.
URL:https://chichesterbid.co.uk/event/open-mic-night-at-havana-2/2025-03-05/
LOCATION:The Havana\, 3 Little London\, Chichester\, PO19 1PH
CATEGORIES:Alive after Five,Regular Events
ATTACH;FMTTYPE=image/jpeg:https://chichesterbid.co.uk/wp-content/uploads/2024/05/IMG-20251001-WA0008.jpg
END:VEVENT
BEGIN:VEVENT
DTSTART;TZID=UTC:20250226T200000
DTEND;TZID=UTC:20250226T200000
DTSTAMP:20260421T002723
CREATED:20240507T105502Z
LAST-MODIFIED:20251016T114113Z
UID:10013340-1740600000-1740600000@chichesterbid.co.uk
SUMMARY:Open Mic Night at Havana
DESCRIPTION:Join Havana every Wednesday for their Open Mic Night with Toby Bain.
URL:https://chichesterbid.co.uk/event/open-mic-night-at-havana-2/2025-02-26/
LOCATION:The Havana\, 3 Little London\, Chichester\, PO19 1PH
CATEGORIES:Alive after Five,Regular Events
ATTACH;FMTTYPE=image/jpeg:https://chichesterbid.co.uk/wp-content/uploads/2024/05/IMG-20251001-WA0008.jpg
END:VEVENT
BEGIN:VEVENT
DTSTART;TZID=UTC:20250219T200000
DTEND;TZID=UTC:20250219T200000
DTSTAMP:20260421T002723
CREATED:20240507T105502Z
LAST-MODIFIED:20251016T114113Z
UID:10013339-1739995200-1739995200@chichesterbid.co.uk
SUMMARY:Open Mic Night at Havana
DESCRIPTION:Join Havana every Wednesday for their Open Mic Night with Toby Bain.
URL:https://chichesterbid.co.uk/event/open-mic-night-at-havana-2/2025-02-19/
LOCATION:The Havana\, 3 Little London\, Chichester\, PO19 1PH
CATEGORIES:Alive after Five,Regular Events
ATTACH;FMTTYPE=image/jpeg:https://chichesterbid.co.uk/wp-content/uploads/2024/05/IMG-20251001-WA0008.jpg
END:VEVENT
BEGIN:VEVENT
DTSTART;TZID=UTC:20250212T200000
DTEND;TZID=UTC:20250212T200000
DTSTAMP:20260421T002723
CREATED:20240507T105502Z
LAST-MODIFIED:20251016T114113Z
UID:10013338-1739390400-1739390400@chichesterbid.co.uk
SUMMARY:Open Mic Night at Havana
DESCRIPTION:Join Havana every Wednesday for their Open Mic Night with Toby Bain.
URL:https://chichesterbid.co.uk/event/open-mic-night-at-havana-2/2025-02-12/
LOCATION:The Havana\, 3 Little London\, Chichester\, PO19 1PH
CATEGORIES:Alive after Five,Regular Events
ATTACH;FMTTYPE=image/jpeg:https://chichesterbid.co.uk/wp-content/uploads/2024/05/IMG-20251001-WA0008.jpg
END:VEVENT
BEGIN:VEVENT
DTSTART;TZID=UTC:20250205T200000
DTEND;TZID=UTC:20250205T200000
DTSTAMP:20260421T002723
CREATED:20240507T105502Z
LAST-MODIFIED:20251016T114113Z
UID:10013337-1738785600-1738785600@chichesterbid.co.uk
SUMMARY:Open Mic Night at Havana
DESCRIPTION:Join Havana every Wednesday for their Open Mic Night with Toby Bain.
URL:https://chichesterbid.co.uk/event/open-mic-night-at-havana-2/2025-02-05/
LOCATION:The Havana\, 3 Little London\, Chichester\, PO19 1PH
CATEGORIES:Alive after Five,Regular Events
ATTACH;FMTTYPE=image/jpeg:https://chichesterbid.co.uk/wp-content/uploads/2024/05/IMG-20251001-WA0008.jpg
END:VEVENT
BEGIN:VEVENT
DTSTART;TZID=UTC:20250129T200000
DTEND;TZID=UTC:20250129T200000
DTSTAMP:20260421T002723
CREATED:20240507T105502Z
LAST-MODIFIED:20251016T114113Z
UID:10013336-1738180800-1738180800@chichesterbid.co.uk
SUMMARY:Open Mic Night at Havana
DESCRIPTION:Join Havana every Wednesday for their Open Mic Night with Toby Bain.
URL:https://chichesterbid.co.uk/event/open-mic-night-at-havana-2/2025-01-29/
LOCATION:The Havana\, 3 Little London\, Chichester\, PO19 1PH
CATEGORIES:Alive after Five,Regular Events
ATTACH;FMTTYPE=image/jpeg:https://chichesterbid.co.uk/wp-content/uploads/2024/05/IMG-20251001-WA0008.jpg
END:VEVENT
BEGIN:VEVENT
DTSTART;TZID=UTC:20250122T200000
DTEND;TZID=UTC:20250122T200000
DTSTAMP:20260421T002723
CREATED:20240507T105502Z
LAST-MODIFIED:20251016T114113Z
UID:10013335-1737576000-1737576000@chichesterbid.co.uk
SUMMARY:Open Mic Night at Havana
DESCRIPTION:Join Havana every Wednesday for their Open Mic Night with Toby Bain.
URL:https://chichesterbid.co.uk/event/open-mic-night-at-havana-2/2025-01-22/
LOCATION:The Havana\, 3 Little London\, Chichester\, PO19 1PH
CATEGORIES:Alive after Five,Regular Events
ATTACH;FMTTYPE=image/jpeg:https://chichesterbid.co.uk/wp-content/uploads/2024/05/IMG-20251001-WA0008.jpg
END:VEVENT
BEGIN:VEVENT
DTSTART;TZID=UTC:20250115T200000
DTEND;TZID=UTC:20250115T200000
DTSTAMP:20260421T002723
CREATED:20240507T105502Z
LAST-MODIFIED:20251016T114113Z
UID:10013334-1736971200-1736971200@chichesterbid.co.uk
SUMMARY:Open Mic Night at Havana
DESCRIPTION:Join Havana every Wednesday for their Open Mic Night with Toby Bain.
URL:https://chichesterbid.co.uk/event/open-mic-night-at-havana-2/2025-01-15/
LOCATION:The Havana\, 3 Little London\, Chichester\, PO19 1PH
CATEGORIES:Alive after Five,Regular Events
ATTACH;FMTTYPE=image/jpeg:https://chichesterbid.co.uk/wp-content/uploads/2024/05/IMG-20251001-WA0008.jpg
END:VEVENT
BEGIN:VEVENT
DTSTART;TZID=UTC:20250108T200000
DTEND;TZID=UTC:20250108T200000
DTSTAMP:20260421T002723
CREATED:20240507T105502Z
LAST-MODIFIED:20251016T114113Z
UID:10013333-1736366400-1736366400@chichesterbid.co.uk
SUMMARY:Open Mic Night at Havana
DESCRIPTION:Join Havana every Wednesday for their Open Mic Night with Toby Bain.
URL:https://chichesterbid.co.uk/event/open-mic-night-at-havana-2/2025-01-08/
LOCATION:The Havana\, 3 Little London\, Chichester\, PO19 1PH
CATEGORIES:Alive after Five,Regular Events
ATTACH;FMTTYPE=image/jpeg:https://chichesterbid.co.uk/wp-content/uploads/2024/05/IMG-20251001-WA0008.jpg
END:VEVENT
BEGIN:VEVENT
DTSTART;TZID=UTC:20250101T200000
DTEND;TZID=UTC:20250101T200000
DTSTAMP:20260421T002723
CREATED:20240507T105502Z
LAST-MODIFIED:20251016T114113Z
UID:10013332-1735761600-1735761600@chichesterbid.co.uk
SUMMARY:Open Mic Night at Havana
DESCRIPTION:Join Havana every Wednesday for their Open Mic Night with Toby Bain.
URL:https://chichesterbid.co.uk/event/open-mic-night-at-havana-2/2025-01-01/
LOCATION:The Havana\, 3 Little London\, Chichester\, PO19 1PH
CATEGORIES:Alive after Five,Regular Events
ATTACH;FMTTYPE=image/jpeg:https://chichesterbid.co.uk/wp-content/uploads/2024/05/IMG-20251001-WA0008.jpg
END:VEVENT
BEGIN:VEVENT
DTSTART;TZID=UTC:20241225T200000
DTEND;TZID=UTC:20241225T200000
DTSTAMP:20260421T002723
CREATED:20240507T105502Z
LAST-MODIFIED:20251016T114113Z
UID:10013331-1735156800-1735156800@chichesterbid.co.uk
SUMMARY:Open Mic Night at Havana
DESCRIPTION:Join Havana every Wednesday for their Open Mic Night with Toby Bain.
URL:https://chichesterbid.co.uk/event/open-mic-night-at-havana-2/2024-12-25/
LOCATION:The Havana\, 3 Little London\, Chichester\, PO19 1PH
CATEGORIES:Alive after Five,Regular Events
ATTACH;FMTTYPE=image/jpeg:https://chichesterbid.co.uk/wp-content/uploads/2024/05/IMG-20251001-WA0008.jpg
END:VEVENT
BEGIN:VEVENT
DTSTART;TZID=UTC:20241218T200000
DTEND;TZID=UTC:20241218T200000
DTSTAMP:20260421T002723
CREATED:20240507T105502Z
LAST-MODIFIED:20251016T114113Z
UID:10013330-1734552000-1734552000@chichesterbid.co.uk
SUMMARY:Open Mic Night at Havana
DESCRIPTION:Join Havana every Wednesday for their Open Mic Night with Toby Bain.
URL:https://chichesterbid.co.uk/event/open-mic-night-at-havana-2/2024-12-18/
LOCATION:The Havana\, 3 Little London\, Chichester\, PO19 1PH
CATEGORIES:Alive after Five,Regular Events
ATTACH;FMTTYPE=image/jpeg:https://chichesterbid.co.uk/wp-content/uploads/2024/05/IMG-20251001-WA0008.jpg
END:VEVENT
BEGIN:VEVENT
DTSTART;TZID=UTC:20241211T200000
DTEND;TZID=UTC:20241211T200000
DTSTAMP:20260421T002723
CREATED:20240507T105502Z
LAST-MODIFIED:20251016T114113Z
UID:10013329-1733947200-1733947200@chichesterbid.co.uk
SUMMARY:Open Mic Night at Havana
DESCRIPTION:Join Havana every Wednesday for their Open Mic Night with Toby Bain.
URL:https://chichesterbid.co.uk/event/open-mic-night-at-havana-2/2024-12-11/
LOCATION:The Havana\, 3 Little London\, Chichester\, PO19 1PH
CATEGORIES:Alive after Five,Regular Events
ATTACH;FMTTYPE=image/jpeg:https://chichesterbid.co.uk/wp-content/uploads/2024/05/IMG-20251001-WA0008.jpg
END:VEVENT
BEGIN:VEVENT
DTSTART;TZID=UTC:20241204T200000
DTEND;TZID=UTC:20241204T200000
DTSTAMP:20260421T002723
CREATED:20240507T105502Z
LAST-MODIFIED:20251016T114113Z
UID:10013328-1733342400-1733342400@chichesterbid.co.uk
SUMMARY:Open Mic Night at Havana
DESCRIPTION:Join Havana every Wednesday for their Open Mic Night with Toby Bain.
URL:https://chichesterbid.co.uk/event/open-mic-night-at-havana-2/2024-12-04/
LOCATION:The Havana\, 3 Little London\, Chichester\, PO19 1PH
CATEGORIES:Alive after Five,Regular Events
ATTACH;FMTTYPE=image/jpeg:https://chichesterbid.co.uk/wp-content/uploads/2024/05/IMG-20251001-WA0008.jpg
END:VEVENT
BEGIN:VEVENT
DTSTART;TZID=UTC:20241127T200000
DTEND;TZID=UTC:20241127T200000
DTSTAMP:20260421T002723
CREATED:20240507T105502Z
LAST-MODIFIED:20251016T114113Z
UID:10013327-1732737600-1732737600@chichesterbid.co.uk
SUMMARY:Open Mic Night at Havana
DESCRIPTION:Join Havana every Wednesday for their Open Mic Night with Toby Bain.
URL:https://chichesterbid.co.uk/event/open-mic-night-at-havana-2/2024-11-27/
LOCATION:The Havana\, 3 Little London\, Chichester\, PO19 1PH
CATEGORIES:Alive after Five,Regular Events
ATTACH;FMTTYPE=image/jpeg:https://chichesterbid.co.uk/wp-content/uploads/2024/05/IMG-20251001-WA0008.jpg
END:VEVENT
BEGIN:VEVENT
DTSTART;TZID=UTC:20241120T200000
DTEND;TZID=UTC:20241120T200000
DTSTAMP:20260421T002723
CREATED:20240507T105502Z
LAST-MODIFIED:20251016T114113Z
UID:10013326-1732132800-1732132800@chichesterbid.co.uk
SUMMARY:Open Mic Night at Havana
DESCRIPTION:Join Havana every Wednesday for their Open Mic Night with Toby Bain.
URL:https://chichesterbid.co.uk/event/open-mic-night-at-havana-2/2024-11-20/
LOCATION:The Havana\, 3 Little London\, Chichester\, PO19 1PH
CATEGORIES:Alive after Five,Regular Events
ATTACH;FMTTYPE=image/jpeg:https://chichesterbid.co.uk/wp-content/uploads/2024/05/IMG-20251001-WA0008.jpg
END:VEVENT
BEGIN:VEVENT
DTSTART;TZID=UTC:20241113T200000
DTEND;TZID=UTC:20241113T200000
DTSTAMP:20260421T002723
CREATED:20240507T105502Z
LAST-MODIFIED:20251016T114113Z
UID:10013325-1731528000-1731528000@chichesterbid.co.uk
SUMMARY:Open Mic Night at Havana
DESCRIPTION:Join Havana every Wednesday for their Open Mic Night with Toby Bain.
URL:https://chichesterbid.co.uk/event/open-mic-night-at-havana-2/2024-11-13/
LOCATION:The Havana\, 3 Little London\, Chichester\, PO19 1PH
CATEGORIES:Alive after Five,Regular Events
ATTACH;FMTTYPE=image/jpeg:https://chichesterbid.co.uk/wp-content/uploads/2024/05/IMG-20251001-WA0008.jpg
END:VEVENT
BEGIN:VEVENT
DTSTART;TZID=UTC:20241106T200000
DTEND;TZID=UTC:20241106T200000
DTSTAMP:20260421T002723
CREATED:20240507T105502Z
LAST-MODIFIED:20251016T114113Z
UID:10013324-1730923200-1730923200@chichesterbid.co.uk
SUMMARY:Open Mic Night at Havana
DESCRIPTION:Join Havana every Wednesday for their Open Mic Night with Toby Bain.
URL:https://chichesterbid.co.uk/event/open-mic-night-at-havana-2/2024-11-06/
LOCATION:The Havana\, 3 Little London\, Chichester\, PO19 1PH
CATEGORIES:Alive after Five,Regular Events
ATTACH;FMTTYPE=image/jpeg:https://chichesterbid.co.uk/wp-content/uploads/2024/05/IMG-20251001-WA0008.jpg
END:VEVENT
BEGIN:VEVENT
DTSTART;TZID=UTC:20241030T200000
DTEND;TZID=UTC:20241030T200000
DTSTAMP:20260421T002723
CREATED:20240507T105502Z
LAST-MODIFIED:20251016T114113Z
UID:10013323-1730318400-1730318400@chichesterbid.co.uk
SUMMARY:Open Mic Night at Havana
DESCRIPTION:Join Havana every Wednesday for their Open Mic Night with Toby Bain.
URL:https://chichesterbid.co.uk/event/open-mic-night-at-havana-2/2024-10-30/
LOCATION:The Havana\, 3 Little London\, Chichester\, PO19 1PH
CATEGORIES:Alive after Five,Regular Events
ATTACH;FMTTYPE=image/jpeg:https://chichesterbid.co.uk/wp-content/uploads/2024/05/IMG-20251001-WA0008.jpg
END:VEVENT
BEGIN:VEVENT
DTSTART;TZID=UTC:20241023T200000
DTEND;TZID=UTC:20241023T200000
DTSTAMP:20260421T002723
CREATED:20240507T105502Z
LAST-MODIFIED:20251016T114113Z
UID:10013322-1729713600-1729713600@chichesterbid.co.uk
SUMMARY:Open Mic Night at Havana
DESCRIPTION:Join Havana every Wednesday for their Open Mic Night with Toby Bain.
URL:https://chichesterbid.co.uk/event/open-mic-night-at-havana-2/2024-10-23/
LOCATION:The Havana\, 3 Little London\, Chichester\, PO19 1PH
CATEGORIES:Alive after Five,Regular Events
ATTACH;FMTTYPE=image/jpeg:https://chichesterbid.co.uk/wp-content/uploads/2024/05/IMG-20251001-WA0008.jpg
END:VEVENT
BEGIN:VEVENT
DTSTART;TZID=UTC:20241016T200000
DTEND;TZID=UTC:20241016T200000
DTSTAMP:20260421T002723
CREATED:20240507T105502Z
LAST-MODIFIED:20251016T114113Z
UID:10013321-1729108800-1729108800@chichesterbid.co.uk
SUMMARY:Open Mic Night at Havana
DESCRIPTION:Join Havana every Wednesday for their Open Mic Night with Toby Bain.
URL:https://chichesterbid.co.uk/event/open-mic-night-at-havana-2/2024-10-16/
LOCATION:The Havana\, 3 Little London\, Chichester\, PO19 1PH
CATEGORIES:Alive after Five,Regular Events
ATTACH;FMTTYPE=image/jpeg:https://chichesterbid.co.uk/wp-content/uploads/2024/05/IMG-20251001-WA0008.jpg
END:VEVENT
BEGIN:VEVENT
DTSTART;TZID=UTC:20241009T200000
DTEND;TZID=UTC:20241009T200000
DTSTAMP:20260421T002723
CREATED:20240507T105502Z
LAST-MODIFIED:20251016T114113Z
UID:10013320-1728504000-1728504000@chichesterbid.co.uk
SUMMARY:Open Mic Night at Havana
DESCRIPTION:Join Havana every Wednesday for their Open Mic Night with Toby Bain.
URL:https://chichesterbid.co.uk/event/open-mic-night-at-havana-2/2024-10-09/
LOCATION:The Havana\, 3 Little London\, Chichester\, PO19 1PH
CATEGORIES:Alive after Five,Regular Events
ATTACH;FMTTYPE=image/jpeg:https://chichesterbid.co.uk/wp-content/uploads/2024/05/IMG-20251001-WA0008.jpg
END:VEVENT
BEGIN:VEVENT
DTSTART;TZID=UTC:20241002T200000
DTEND;TZID=UTC:20241002T200000
DTSTAMP:20260421T002723
CREATED:20240507T105502Z
LAST-MODIFIED:20251016T114113Z
UID:10013319-1727899200-1727899200@chichesterbid.co.uk
SUMMARY:Open Mic Night at Havana
DESCRIPTION:Join Havana every Wednesday for their Open Mic Night with Toby Bain.
URL:https://chichesterbid.co.uk/event/open-mic-night-at-havana-2/2024-10-02/
LOCATION:The Havana\, 3 Little London\, Chichester\, PO19 1PH
CATEGORIES:Alive after Five,Regular Events
ATTACH;FMTTYPE=image/jpeg:https://chichesterbid.co.uk/wp-content/uploads/2024/05/IMG-20251001-WA0008.jpg
END:VEVENT
BEGIN:VEVENT
DTSTART;TZID=UTC:20240925T200000
DTEND;TZID=UTC:20240925T200000
DTSTAMP:20260421T002723
CREATED:20240507T105502Z
LAST-MODIFIED:20251016T114113Z
UID:10013318-1727294400-1727294400@chichesterbid.co.uk
SUMMARY:Open Mic Night at Havana
DESCRIPTION:Join Havana every Wednesday for their Open Mic Night with Toby Bain.
URL:https://chichesterbid.co.uk/event/open-mic-night-at-havana-2/2024-09-25/
LOCATION:The Havana\, 3 Little London\, Chichester\, PO19 1PH
CATEGORIES:Alive after Five,Regular Events
ATTACH;FMTTYPE=image/jpeg:https://chichesterbid.co.uk/wp-content/uploads/2024/05/IMG-20251001-WA0008.jpg
END:VEVENT
BEGIN:VEVENT
DTSTART;TZID=UTC:20240918T200000
DTEND;TZID=UTC:20240918T200000
DTSTAMP:20260421T002723
CREATED:20240507T105502Z
LAST-MODIFIED:20251016T114113Z
UID:10013317-1726689600-1726689600@chichesterbid.co.uk
SUMMARY:Open Mic Night at Havana
DESCRIPTION:Join Havana every Wednesday for their Open Mic Night with Toby Bain.
URL:https://chichesterbid.co.uk/event/open-mic-night-at-havana-2/2024-09-18/
LOCATION:The Havana\, 3 Little London\, Chichester\, PO19 1PH
CATEGORIES:Alive after Five,Regular Events
ATTACH;FMTTYPE=image/jpeg:https://chichesterbid.co.uk/wp-content/uploads/2024/05/IMG-20251001-WA0008.jpg
END:VEVENT
BEGIN:VEVENT
DTSTART;TZID=UTC:20240911T200000
DTEND;TZID=UTC:20240911T200000
DTSTAMP:20260421T002723
CREATED:20240507T105502Z
LAST-MODIFIED:20251016T114113Z
UID:10013316-1726084800-1726084800@chichesterbid.co.uk
SUMMARY:Open Mic Night at Havana
DESCRIPTION:Join Havana every Wednesday for their Open Mic Night with Toby Bain.
URL:https://chichesterbid.co.uk/event/open-mic-night-at-havana-2/2024-09-11/
LOCATION:The Havana\, 3 Little London\, Chichester\, PO19 1PH
CATEGORIES:Alive after Five,Regular Events
ATTACH;FMTTYPE=image/jpeg:https://chichesterbid.co.uk/wp-content/uploads/2024/05/IMG-20251001-WA0008.jpg
END:VEVENT
BEGIN:VEVENT
DTSTART;TZID=UTC:20240904T200000
DTEND;TZID=UTC:20240904T200000
DTSTAMP:20260421T002723
CREATED:20240507T105502Z
LAST-MODIFIED:20251016T114113Z
UID:10013315-1725480000-1725480000@chichesterbid.co.uk
SUMMARY:Open Mic Night at Havana
DESCRIPTION:Join Havana every Wednesday for their Open Mic Night with Toby Bain.
URL:https://chichesterbid.co.uk/event/open-mic-night-at-havana-2/2024-09-04/
LOCATION:The Havana\, 3 Little London\, Chichester\, PO19 1PH
CATEGORIES:Alive after Five,Regular Events
ATTACH;FMTTYPE=image/jpeg:https://chichesterbid.co.uk/wp-content/uploads/2024/05/IMG-20251001-WA0008.jpg
END:VEVENT
BEGIN:VEVENT
DTSTART;TZID=UTC:20240828T200000
DTEND;TZID=UTC:20240828T200000
DTSTAMP:20260421T002723
CREATED:20240507T105502Z
LAST-MODIFIED:20251016T114113Z
UID:10013314-1724875200-1724875200@chichesterbid.co.uk
SUMMARY:Open Mic Night at Havana
DESCRIPTION:Join Havana every Wednesday for their Open Mic Night with Toby Bain.
URL:https://chichesterbid.co.uk/event/open-mic-night-at-havana-2/2024-08-28/
LOCATION:The Havana\, 3 Little London\, Chichester\, PO19 1PH
CATEGORIES:Alive after Five,Regular Events
ATTACH;FMTTYPE=image/jpeg:https://chichesterbid.co.uk/wp-content/uploads/2024/05/IMG-20251001-WA0008.jpg
END:VEVENT
BEGIN:VEVENT
DTSTART;TZID=UTC:20240821T200000
DTEND;TZID=UTC:20240821T200000
DTSTAMP:20260421T002723
CREATED:20240507T105502Z
LAST-MODIFIED:20251016T114113Z
UID:10013313-1724270400-1724270400@chichesterbid.co.uk
SUMMARY:Open Mic Night at Havana
DESCRIPTION:Join Havana every Wednesday for their Open Mic Night with Toby Bain.
URL:https://chichesterbid.co.uk/event/open-mic-night-at-havana-2/2024-08-21/
LOCATION:The Havana\, 3 Little London\, Chichester\, PO19 1PH
CATEGORIES:Alive after Five,Regular Events
ATTACH;FMTTYPE=image/jpeg:https://chichesterbid.co.uk/wp-content/uploads/2024/05/IMG-20251001-WA0008.jpg
END:VEVENT
END:VCALENDAR