BEGIN:VCALENDAR
VERSION:2.0
PRODID:-//Chichester BID - ECPv6.15.20//NONSGML v1.0//EN
CALSCALE:GREGORIAN
METHOD:PUBLISH
X-ORIGINAL-URL:https://chichesterbid.co.uk
X-WR-CALDESC:Events for Chichester BID
REFRESH-INTERVAL;VALUE=DURATION:PT1H
X-Robots-Tag:noindex
X-PUBLISHED-TTL:PT1H
BEGIN:VTIMEZONE
TZID:UTC
BEGIN:STANDARD
TZOFFSETFROM:+0000
TZOFFSETTO:+0000
TZNAME:UTC
DTSTART:20230101T000000
END:STANDARD
END:VTIMEZONE
BEGIN:VEVENT
DTSTART;VALUE=DATE:20250201
DTEND;VALUE=DATE:20250202
DTSTAMP:20260421T024536
CREATED:20250110T123412Z
LAST-MODIFIED:20250110T123521Z
UID:10021421-1738368000-1738454399@chichesterbid.co.uk
SUMMARY:Craft Club at Jam Cafe
DESCRIPTION:Join Jam Cafe every Saturday for their weekly Craft Club. \nEach week they will be making a variety of crafts from painting to collage to badges\, the options are endless. \nThere are 2 drop in sessions – \n10:30am-12:00pm \n1:00pm-3:00pm \nCost – From £5.00\, depending on activity and you can book your space here.
URL:https://chichesterbid.co.uk/event/craft-club-at-jam-cafe/2025-02-01/
LOCATION:JAM Cafe\, 33 Southgate\, Chichester\, West Sussex\, PO19 1DP
CATEGORIES:Regular Events,Workshops
ATTACH;FMTTYPE=image/avif:https://chichesterbid.co.uk/wp-content/uploads/2025/01/2.avif
ORGANIZER;CN="JAM":MAILTO:info@creativebeatz.co.uk
END:VEVENT
BEGIN:VEVENT
DTSTART;TZID=UTC:20250131T190000
DTEND;TZID=UTC:20250131T210000
DTSTAMP:20260421T024536
CREATED:20250110T124812Z
LAST-MODIFIED:20250110T124812Z
UID:10021681-1738350000-1738357200@chichesterbid.co.uk
SUMMARY:Meet & Make: Embroidery & Beading at Jam Cafe
DESCRIPTION:Our monthly meet & make! Bring a mate or come on your own and meet new like-minded people whilst getting crafty. This month bring an item of clothing and we’ll be up-cycling using embroidery and beading! (just bring an item of clothing\, we’ll provide the rest!) \nPrice – £15.00 and you can book your space here.
URL:https://chichesterbid.co.uk/event/meet-make-embroidery-beading-at-jam-cafe/
LOCATION:JAM Cafe\, 33 Southgate\, Chichester\, West Sussex\, PO19 1DP
CATEGORIES:Regular Events,Workshops
ATTACH;FMTTYPE=image/png:https://chichesterbid.co.uk/wp-content/uploads/2025/01/Creative-Beatz-3.png
ORGANIZER;CN="JAM":MAILTO:info@creativebeatz.co.uk
END:VEVENT
BEGIN:VEVENT
DTSTART;VALUE=DATE:20250125
DTEND;VALUE=DATE:20250126
DTSTAMP:20260421T024536
CREATED:20250110T123412Z
LAST-MODIFIED:20250110T123521Z
UID:10021420-1737763200-1737849599@chichesterbid.co.uk
SUMMARY:Craft Club at Jam Cafe
DESCRIPTION:Join Jam Cafe every Saturday for their weekly Craft Club. \nEach week they will be making a variety of crafts from painting to collage to badges\, the options are endless. \nThere are 2 drop in sessions – \n10:30am-12:00pm \n1:00pm-3:00pm \nCost – From £5.00\, depending on activity and you can book your space here.
URL:https://chichesterbid.co.uk/event/craft-club-at-jam-cafe/2025-01-25/
LOCATION:JAM Cafe\, 33 Southgate\, Chichester\, West Sussex\, PO19 1DP
CATEGORIES:Regular Events,Workshops
ATTACH;FMTTYPE=image/avif:https://chichesterbid.co.uk/wp-content/uploads/2025/01/2.avif
ORGANIZER;CN="JAM":MAILTO:info@creativebeatz.co.uk
END:VEVENT
BEGIN:VEVENT
DTSTART;TZID=UTC:20250124T190000
DTEND;TZID=UTC:20250124T210000
DTSTAMP:20260421T024536
CREATED:20250110T124503Z
LAST-MODIFIED:20250110T124503Z
UID:10021680-1737745200-1737752400@chichesterbid.co.uk
SUMMARY:MP3/DnB/UKG featuring Word Of Mouth at Jam Cafe
DESCRIPTION:Celebrate our FIRST birthday with our first Under 18 DJ event! Tickets limited to 25 so grab yours quick! With special live performances from Portsmouth Hip Hop Collective Word.Of.Mouth! \nRSVP here.
URL:https://chichesterbid.co.uk/event/mp3-dnb-ukg-featuring-word-of-mouth-at-jam-cafe/
LOCATION:JAM Cafe\, 33 Southgate\, Chichester\, West Sussex\, PO19 1DP
CATEGORIES:Live Music
ATTACH;FMTTYPE=image/webp:https://chichesterbid.co.uk/wp-content/uploads/2025/01/ed0e5c_a197108a7b3544048bcd9dcd4e0789a5mv2.webp
ORGANIZER;CN="JAM":MAILTO:info@creativebeatz.co.uk
END:VEVENT
BEGIN:VEVENT
DTSTART;TZID=UTC:20250118T190000
DTEND;TZID=UTC:20250118T190000
DTSTAMP:20260421T024536
CREATED:20240508T090539Z
LAST-MODIFIED:20240508T090710Z
UID:10013633-1737226800-1737226800@chichesterbid.co.uk
SUMMARY:Listeners Lounge at Jam Cafe
DESCRIPTION:Join Jam Cafe every third Saturday of the month for their listeners lounge where they’ll have 3 talented artists performing. \nDoors at 7pm \nTickets- \nAdults – £3 \nUnder 18s- Free
URL:https://chichesterbid.co.uk/event/listeners-lounge-at-jam-cafe/2025-01-18/
LOCATION:JAM Cafe\, 33 Southgate\, Chichester\, West Sussex\, PO19 1DP
CATEGORIES:Family Friendly
ATTACH;FMTTYPE=image/png:https://chichesterbid.co.uk/wp-content/uploads/2024/01/Creative-Beatz-3.png
ORGANIZER;CN="JAM":MAILTO:info@creativebeatz.co.uk
END:VEVENT
BEGIN:VEVENT
DTSTART;VALUE=DATE:20250118
DTEND;VALUE=DATE:20250119
DTSTAMP:20260421T024536
CREATED:20250110T123412Z
LAST-MODIFIED:20250110T123521Z
UID:10021419-1737158400-1737244799@chichesterbid.co.uk
SUMMARY:Craft Club at Jam Cafe
DESCRIPTION:Join Jam Cafe every Saturday for their weekly Craft Club. \nEach week they will be making a variety of crafts from painting to collage to badges\, the options are endless. \nThere are 2 drop in sessions – \n10:30am-12:00pm \n1:00pm-3:00pm \nCost – From £5.00\, depending on activity and you can book your space here.
URL:https://chichesterbid.co.uk/event/craft-club-at-jam-cafe/2025-01-18/
LOCATION:JAM Cafe\, 33 Southgate\, Chichester\, West Sussex\, PO19 1DP
CATEGORIES:Regular Events,Workshops
ATTACH;FMTTYPE=image/avif:https://chichesterbid.co.uk/wp-content/uploads/2025/01/2.avif
ORGANIZER;CN="JAM":MAILTO:info@creativebeatz.co.uk
END:VEVENT
BEGIN:VEVENT
DTSTART;VALUE=DATE:20250111
DTEND;VALUE=DATE:20250112
DTSTAMP:20260421T024536
CREATED:20250110T123412Z
LAST-MODIFIED:20250110T123521Z
UID:10021418-1736553600-1736639999@chichesterbid.co.uk
SUMMARY:Craft Club at Jam Cafe
DESCRIPTION:Join Jam Cafe every Saturday for their weekly Craft Club. \nEach week they will be making a variety of crafts from painting to collage to badges\, the options are endless. \nThere are 2 drop in sessions – \n10:30am-12:00pm \n1:00pm-3:00pm \nCost – From £5.00\, depending on activity and you can book your space here.
URL:https://chichesterbid.co.uk/event/craft-club-at-jam-cafe/2025-01-11/
LOCATION:JAM Cafe\, 33 Southgate\, Chichester\, West Sussex\, PO19 1DP
CATEGORIES:Regular Events,Workshops
ATTACH;FMTTYPE=image/avif:https://chichesterbid.co.uk/wp-content/uploads/2025/01/2.avif
ORGANIZER;CN="JAM":MAILTO:info@creativebeatz.co.uk
END:VEVENT
BEGIN:VEVENT
DTSTART;TZID=UTC:20250101T190000
DTEND;TZID=UTC:20250101T210000
DTSTAMP:20260421T024536
CREATED:20240731T102125Z
LAST-MODIFIED:20240731T102232Z
UID:10019986-1735758000-1735765200@chichesterbid.co.uk
SUMMARY:THE SEEN ZINE: Monthly Networking Social at JAM Cafe
DESCRIPTION:Meet likeminded creatives and discuss new ideas or ways we can make @theseenzine a vibrant digest which represents the creative businesses\, events and individuals that make Chichester. \nMaybe you’re someone who wants to be featured in the magazine\, maybe you want to contribute to the graphic design or photography or maybe you’re just looking to meet other musicians\, artists\, designers and makers who have their own Chichester initates. \nHeld every 1st Wednesday of the month at JAM Cafe from 7pm.
URL:https://chichesterbid.co.uk/event/the-seen_zine/2025-01-01/
LOCATION:JAM Cafe\, 33 Southgate\, Chichester\, West Sussex\, PO19 1DP
ATTACH;FMTTYPE=image/png:https://chichesterbid.co.uk/wp-content/uploads/2024/07/1232.png
ORGANIZER;CN="JAM":MAILTO:info@creativebeatz.co.uk
END:VEVENT
BEGIN:VEVENT
DTSTART;TZID=UTC:20241221T190000
DTEND;TZID=UTC:20241221T190000
DTSTAMP:20260421T024536
CREATED:20240508T090539Z
LAST-MODIFIED:20240508T090710Z
UID:10013632-1734807600-1734807600@chichesterbid.co.uk
SUMMARY:Listeners Lounge at Jam Cafe
DESCRIPTION:Join Jam Cafe every third Saturday of the month for their listeners lounge where they’ll have 3 talented artists performing. \nDoors at 7pm \nTickets- \nAdults – £3 \nUnder 18s- Free
URL:https://chichesterbid.co.uk/event/listeners-lounge-at-jam-cafe/2024-12-21/
LOCATION:JAM Cafe\, 33 Southgate\, Chichester\, West Sussex\, PO19 1DP
CATEGORIES:Family Friendly
ATTACH;FMTTYPE=image/png:https://chichesterbid.co.uk/wp-content/uploads/2024/01/Creative-Beatz-3.png
ORGANIZER;CN="JAM":MAILTO:info@creativebeatz.co.uk
END:VEVENT
BEGIN:VEVENT
DTSTART;TZID=UTC:20241204T190000
DTEND;TZID=UTC:20241204T210000
DTSTAMP:20260421T024536
CREATED:20240731T102125Z
LAST-MODIFIED:20240731T102232Z
UID:10019985-1733338800-1733346000@chichesterbid.co.uk
SUMMARY:THE SEEN ZINE: Monthly Networking Social at JAM Cafe
DESCRIPTION:Meet likeminded creatives and discuss new ideas or ways we can make @theseenzine a vibrant digest which represents the creative businesses\, events and individuals that make Chichester. \nMaybe you’re someone who wants to be featured in the magazine\, maybe you want to contribute to the graphic design or photography or maybe you’re just looking to meet other musicians\, artists\, designers and makers who have their own Chichester initates. \nHeld every 1st Wednesday of the month at JAM Cafe from 7pm.
URL:https://chichesterbid.co.uk/event/the-seen_zine/2024-12-04/
LOCATION:JAM Cafe\, 33 Southgate\, Chichester\, West Sussex\, PO19 1DP
ATTACH;FMTTYPE=image/png:https://chichesterbid.co.uk/wp-content/uploads/2024/07/1232.png
ORGANIZER;CN="JAM":MAILTO:info@creativebeatz.co.uk
END:VEVENT
BEGIN:VEVENT
DTSTART;TZID=UTC:20241116T190000
DTEND;TZID=UTC:20241116T190000
DTSTAMP:20260421T024536
CREATED:20240508T090539Z
LAST-MODIFIED:20240508T090710Z
UID:10013631-1731783600-1731783600@chichesterbid.co.uk
SUMMARY:Listeners Lounge at Jam Cafe
DESCRIPTION:Join Jam Cafe every third Saturday of the month for their listeners lounge where they’ll have 3 talented artists performing. \nDoors at 7pm \nTickets- \nAdults – £3 \nUnder 18s- Free
URL:https://chichesterbid.co.uk/event/listeners-lounge-at-jam-cafe/2024-11-16/
LOCATION:JAM Cafe\, 33 Southgate\, Chichester\, West Sussex\, PO19 1DP
CATEGORIES:Family Friendly
ATTACH;FMTTYPE=image/png:https://chichesterbid.co.uk/wp-content/uploads/2024/01/Creative-Beatz-3.png
ORGANIZER;CN="JAM":MAILTO:info@creativebeatz.co.uk
END:VEVENT
BEGIN:VEVENT
DTSTART;TZID=UTC:20241106T190000
DTEND;TZID=UTC:20241106T210000
DTSTAMP:20260421T024536
CREATED:20240731T102125Z
LAST-MODIFIED:20240731T102232Z
UID:10019984-1730919600-1730926800@chichesterbid.co.uk
SUMMARY:THE SEEN ZINE: Monthly Networking Social at JAM Cafe
DESCRIPTION:Meet likeminded creatives and discuss new ideas or ways we can make @theseenzine a vibrant digest which represents the creative businesses\, events and individuals that make Chichester. \nMaybe you’re someone who wants to be featured in the magazine\, maybe you want to contribute to the graphic design or photography or maybe you’re just looking to meet other musicians\, artists\, designers and makers who have their own Chichester initates. \nHeld every 1st Wednesday of the month at JAM Cafe from 7pm.
URL:https://chichesterbid.co.uk/event/the-seen_zine/2024-11-06/
LOCATION:JAM Cafe\, 33 Southgate\, Chichester\, West Sussex\, PO19 1DP
ATTACH;FMTTYPE=image/png:https://chichesterbid.co.uk/wp-content/uploads/2024/07/1232.png
ORGANIZER;CN="JAM":MAILTO:info@creativebeatz.co.uk
END:VEVENT
BEGIN:VEVENT
DTSTART;TZID=UTC:20241019T190000
DTEND;TZID=UTC:20241019T190000
DTSTAMP:20260421T024536
CREATED:20240508T090539Z
LAST-MODIFIED:20240508T090710Z
UID:10013630-1729364400-1729364400@chichesterbid.co.uk
SUMMARY:Listeners Lounge at Jam Cafe
DESCRIPTION:Join Jam Cafe every third Saturday of the month for their listeners lounge where they’ll have 3 talented artists performing. \nDoors at 7pm \nTickets- \nAdults – £3 \nUnder 18s- Free
URL:https://chichesterbid.co.uk/event/listeners-lounge-at-jam-cafe/2024-10-19/
LOCATION:JAM Cafe\, 33 Southgate\, Chichester\, West Sussex\, PO19 1DP
CATEGORIES:Family Friendly
ATTACH;FMTTYPE=image/png:https://chichesterbid.co.uk/wp-content/uploads/2024/01/Creative-Beatz-3.png
ORGANIZER;CN="JAM":MAILTO:info@creativebeatz.co.uk
END:VEVENT
BEGIN:VEVENT
DTSTART;TZID=UTC:20241002T190000
DTEND;TZID=UTC:20241002T210000
DTSTAMP:20260421T024536
CREATED:20240731T102125Z
LAST-MODIFIED:20240731T102232Z
UID:10019983-1727895600-1727902800@chichesterbid.co.uk
SUMMARY:THE SEEN ZINE: Monthly Networking Social at JAM Cafe
DESCRIPTION:Meet likeminded creatives and discuss new ideas or ways we can make @theseenzine a vibrant digest which represents the creative businesses\, events and individuals that make Chichester. \nMaybe you’re someone who wants to be featured in the magazine\, maybe you want to contribute to the graphic design or photography or maybe you’re just looking to meet other musicians\, artists\, designers and makers who have their own Chichester initates. \nHeld every 1st Wednesday of the month at JAM Cafe from 7pm.
URL:https://chichesterbid.co.uk/event/the-seen_zine/2024-10-02/
LOCATION:JAM Cafe\, 33 Southgate\, Chichester\, West Sussex\, PO19 1DP
ATTACH;FMTTYPE=image/png:https://chichesterbid.co.uk/wp-content/uploads/2024/07/1232.png
ORGANIZER;CN="JAM":MAILTO:info@creativebeatz.co.uk
END:VEVENT
BEGIN:VEVENT
DTSTART;TZID=UTC:20240921T190000
DTEND;TZID=UTC:20240921T190000
DTSTAMP:20260421T024536
CREATED:20240508T090539Z
LAST-MODIFIED:20240508T090710Z
UID:10013629-1726945200-1726945200@chichesterbid.co.uk
SUMMARY:Listeners Lounge at Jam Cafe
DESCRIPTION:Join Jam Cafe every third Saturday of the month for their listeners lounge where they’ll have 3 talented artists performing. \nDoors at 7pm \nTickets- \nAdults – £3 \nUnder 18s- Free
URL:https://chichesterbid.co.uk/event/listeners-lounge-at-jam-cafe/2024-09-21/
LOCATION:JAM Cafe\, 33 Southgate\, Chichester\, West Sussex\, PO19 1DP
CATEGORIES:Family Friendly
ATTACH;FMTTYPE=image/png:https://chichesterbid.co.uk/wp-content/uploads/2024/01/Creative-Beatz-3.png
ORGANIZER;CN="JAM":MAILTO:info@creativebeatz.co.uk
END:VEVENT
BEGIN:VEVENT
DTSTART;TZID=UTC:20240904T190000
DTEND;TZID=UTC:20240904T210000
DTSTAMP:20260421T024536
CREATED:20240731T102125Z
LAST-MODIFIED:20240731T102232Z
UID:10019982-1725476400-1725483600@chichesterbid.co.uk
SUMMARY:THE SEEN ZINE: Monthly Networking Social at JAM Cafe
DESCRIPTION:Meet likeminded creatives and discuss new ideas or ways we can make @theseenzine a vibrant digest which represents the creative businesses\, events and individuals that make Chichester. \nMaybe you’re someone who wants to be featured in the magazine\, maybe you want to contribute to the graphic design or photography or maybe you’re just looking to meet other musicians\, artists\, designers and makers who have their own Chichester initates. \nHeld every 1st Wednesday of the month at JAM Cafe from 7pm.
URL:https://chichesterbid.co.uk/event/the-seen_zine/2024-09-04/
LOCATION:JAM Cafe\, 33 Southgate\, Chichester\, West Sussex\, PO19 1DP
ATTACH;FMTTYPE=image/png:https://chichesterbid.co.uk/wp-content/uploads/2024/07/1232.png
ORGANIZER;CN="JAM":MAILTO:info@creativebeatz.co.uk
END:VEVENT
BEGIN:VEVENT
DTSTART;TZID=UTC:20240817T190000
DTEND;TZID=UTC:20240817T190000
DTSTAMP:20260421T024536
CREATED:20240508T090539Z
LAST-MODIFIED:20240508T090710Z
UID:10013628-1723921200-1723921200@chichesterbid.co.uk
SUMMARY:Listeners Lounge at Jam Cafe
DESCRIPTION:Join Jam Cafe every third Saturday of the month for their listeners lounge where they’ll have 3 talented artists performing. \nDoors at 7pm \nTickets- \nAdults – £3 \nUnder 18s- Free
URL:https://chichesterbid.co.uk/event/listeners-lounge-at-jam-cafe/2024-08-17/
LOCATION:JAM Cafe\, 33 Southgate\, Chichester\, West Sussex\, PO19 1DP
CATEGORIES:Family Friendly
ATTACH;FMTTYPE=image/png:https://chichesterbid.co.uk/wp-content/uploads/2024/01/Creative-Beatz-3.png
ORGANIZER;CN="JAM":MAILTO:info@creativebeatz.co.uk
END:VEVENT
BEGIN:VEVENT
DTSTART;TZID=UTC:20240807T190000
DTEND;TZID=UTC:20240807T210000
DTSTAMP:20260421T024536
CREATED:20240731T102125Z
LAST-MODIFIED:20240731T102232Z
UID:10019981-1723057200-1723064400@chichesterbid.co.uk
SUMMARY:THE SEEN ZINE: Monthly Networking Social at JAM Cafe
DESCRIPTION:Meet likeminded creatives and discuss new ideas or ways we can make @theseenzine a vibrant digest which represents the creative businesses\, events and individuals that make Chichester. \nMaybe you’re someone who wants to be featured in the magazine\, maybe you want to contribute to the graphic design or photography or maybe you’re just looking to meet other musicians\, artists\, designers and makers who have their own Chichester initates. \nHeld every 1st Wednesday of the month at JAM Cafe from 7pm.
URL:https://chichesterbid.co.uk/event/the-seen_zine/2024-08-07/
LOCATION:JAM Cafe\, 33 Southgate\, Chichester\, West Sussex\, PO19 1DP
ATTACH;FMTTYPE=image/png:https://chichesterbid.co.uk/wp-content/uploads/2024/07/1232.png
ORGANIZER;CN="JAM":MAILTO:info@creativebeatz.co.uk
END:VEVENT
BEGIN:VEVENT
DTSTART;TZID=UTC:20240720T190000
DTEND;TZID=UTC:20240720T190000
DTSTAMP:20260421T024536
CREATED:20240508T090539Z
LAST-MODIFIED:20240508T090710Z
UID:10013627-1721502000-1721502000@chichesterbid.co.uk
SUMMARY:Listeners Lounge at Jam Cafe
DESCRIPTION:Join Jam Cafe every third Saturday of the month for their listeners lounge where they’ll have 3 talented artists performing. \nDoors at 7pm \nTickets- \nAdults – £3 \nUnder 18s- Free
URL:https://chichesterbid.co.uk/event/listeners-lounge-at-jam-cafe/2024-07-20/
LOCATION:JAM Cafe\, 33 Southgate\, Chichester\, West Sussex\, PO19 1DP
CATEGORIES:Family Friendly
ATTACH;FMTTYPE=image/png:https://chichesterbid.co.uk/wp-content/uploads/2024/01/Creative-Beatz-3.png
ORGANIZER;CN="JAM":MAILTO:info@creativebeatz.co.uk
END:VEVENT
BEGIN:VEVENT
DTSTART;TZID=UTC:20240615T190000
DTEND;TZID=UTC:20240615T190000
DTSTAMP:20260421T024536
CREATED:20240508T090539Z
LAST-MODIFIED:20240508T090710Z
UID:10013626-1718478000-1718478000@chichesterbid.co.uk
SUMMARY:Listeners Lounge at Jam Cafe
DESCRIPTION:Join Jam Cafe every third Saturday of the month for their listeners lounge where they’ll have 3 talented artists performing. \nDoors at 7pm \nTickets- \nAdults – £3 \nUnder 18s- Free
URL:https://chichesterbid.co.uk/event/listeners-lounge-at-jam-cafe/2024-06-15/
LOCATION:JAM Cafe\, 33 Southgate\, Chichester\, West Sussex\, PO19 1DP
CATEGORIES:Family Friendly
ATTACH;FMTTYPE=image/png:https://chichesterbid.co.uk/wp-content/uploads/2024/01/Creative-Beatz-3.png
ORGANIZER;CN="JAM":MAILTO:info@creativebeatz.co.uk
END:VEVENT
BEGIN:VEVENT
DTSTART;TZID=UTC:20240518T190000
DTEND;TZID=UTC:20240518T190000
DTSTAMP:20260421T024536
CREATED:20240508T090539Z
LAST-MODIFIED:20240508T090710Z
UID:10013625-1716058800-1716058800@chichesterbid.co.uk
SUMMARY:Listeners Lounge at Jam Cafe
DESCRIPTION:Join Jam Cafe every third Saturday of the month for their listeners lounge where they’ll have 3 talented artists performing. \nDoors at 7pm \nTickets- \nAdults – £3 \nUnder 18s- Free
URL:https://chichesterbid.co.uk/event/listeners-lounge-at-jam-cafe/2024-05-18/
LOCATION:JAM Cafe\, 33 Southgate\, Chichester\, West Sussex\, PO19 1DP
CATEGORIES:Family Friendly
ATTACH;FMTTYPE=image/png:https://chichesterbid.co.uk/wp-content/uploads/2024/01/Creative-Beatz-3.png
ORGANIZER;CN="JAM":MAILTO:info@creativebeatz.co.uk
END:VEVENT
END:VCALENDAR