BEGIN:VCALENDAR
VERSION:2.0
PRODID:-//Chichester BID - ECPv6.15.17.1//NONSGML v1.0//EN
CALSCALE:GREGORIAN
METHOD:PUBLISH
X-ORIGINAL-URL:https://chichesterbid.co.uk
X-WR-CALDESC:Events for Chichester BID
REFRESH-INTERVAL;VALUE=DURATION:PT1H
X-Robots-Tag:noindex
X-PUBLISHED-TTL:PT1H
BEGIN:VTIMEZONE
TZID:UTC
BEGIN:STANDARD
TZOFFSETFROM:+0000
TZOFFSETTO:+0000
TZNAME:UTC
DTSTART:20270101T000000
END:STANDARD
END:VTIMEZONE
BEGIN:VEVENT
DTSTART;TZID=UTC:20280812T090000
DTEND;TZID=UTC:20280812T090000
DTSTAMP:20260420T060945
CREATED:20240213T140904Z
LAST-MODIFIED:20240213T140904Z
UID:10009893-1849683600-1849683600@chichesterbid.co.uk
SUMMARY:Sweaty Betty Weekly Run Club
DESCRIPTION:Join the Sweaty Betty run club every Saturday at 9am. \nAll abilities welcome. \nMeet at 9am at Sweaty Betty\, Chichester for 45 minutes.
URL:https://chichesterbid.co.uk/event/sweaty-betty-weekly-run-club/2028-08-12/
LOCATION:Sweaty Betty\, 51a South Street\, Chichester\, West Sussex\, PO19 1DS\, United Kingdom
CATEGORIES:Regular Events
ATTACH;FMTTYPE=image/jpeg:https://chichesterbid.co.uk/wp-content/uploads/2024/02/426336202_891359159580183_8292756840449639732_n.jpg
END:VEVENT
BEGIN:VEVENT
DTSTART;TZID=UTC:20280819T090000
DTEND;TZID=UTC:20280819T090000
DTSTAMP:20260420T060945
CREATED:20240213T140904Z
LAST-MODIFIED:20240213T140904Z
UID:10009894-1850288400-1850288400@chichesterbid.co.uk
SUMMARY:Sweaty Betty Weekly Run Club
DESCRIPTION:Join the Sweaty Betty run club every Saturday at 9am. \nAll abilities welcome. \nMeet at 9am at Sweaty Betty\, Chichester for 45 minutes.
URL:https://chichesterbid.co.uk/event/sweaty-betty-weekly-run-club/2028-08-19/
LOCATION:Sweaty Betty\, 51a South Street\, Chichester\, West Sussex\, PO19 1DS\, United Kingdom
CATEGORIES:Regular Events
ATTACH;FMTTYPE=image/jpeg:https://chichesterbid.co.uk/wp-content/uploads/2024/02/426336202_891359159580183_8292756840449639732_n.jpg
END:VEVENT
BEGIN:VEVENT
DTSTART;TZID=UTC:20280826T090000
DTEND;TZID=UTC:20280826T090000
DTSTAMP:20260420T060945
CREATED:20240213T140904Z
LAST-MODIFIED:20240213T140904Z
UID:10009895-1850893200-1850893200@chichesterbid.co.uk
SUMMARY:Sweaty Betty Weekly Run Club
DESCRIPTION:Join the Sweaty Betty run club every Saturday at 9am. \nAll abilities welcome. \nMeet at 9am at Sweaty Betty\, Chichester for 45 minutes.
URL:https://chichesterbid.co.uk/event/sweaty-betty-weekly-run-club/2028-08-26/
LOCATION:Sweaty Betty\, 51a South Street\, Chichester\, West Sussex\, PO19 1DS\, United Kingdom
CATEGORIES:Regular Events
ATTACH;FMTTYPE=image/jpeg:https://chichesterbid.co.uk/wp-content/uploads/2024/02/426336202_891359159580183_8292756840449639732_n.jpg
END:VEVENT
BEGIN:VEVENT
DTSTART;TZID=UTC:20280902T090000
DTEND;TZID=UTC:20280902T090000
DTSTAMP:20260420T060945
CREATED:20240213T140904Z
LAST-MODIFIED:20240213T140904Z
UID:10009896-1851498000-1851498000@chichesterbid.co.uk
SUMMARY:Sweaty Betty Weekly Run Club
DESCRIPTION:Join the Sweaty Betty run club every Saturday at 9am. \nAll abilities welcome. \nMeet at 9am at Sweaty Betty\, Chichester for 45 minutes.
URL:https://chichesterbid.co.uk/event/sweaty-betty-weekly-run-club/2028-09-02/
LOCATION:Sweaty Betty\, 51a South Street\, Chichester\, West Sussex\, PO19 1DS\, United Kingdom
CATEGORIES:Regular Events
ATTACH;FMTTYPE=image/jpeg:https://chichesterbid.co.uk/wp-content/uploads/2024/02/426336202_891359159580183_8292756840449639732_n.jpg
END:VEVENT
BEGIN:VEVENT
DTSTART;TZID=UTC:20280909T090000
DTEND;TZID=UTC:20280909T090000
DTSTAMP:20260420T060945
CREATED:20240213T140904Z
LAST-MODIFIED:20240213T140904Z
UID:10009897-1852102800-1852102800@chichesterbid.co.uk
SUMMARY:Sweaty Betty Weekly Run Club
DESCRIPTION:Join the Sweaty Betty run club every Saturday at 9am. \nAll abilities welcome. \nMeet at 9am at Sweaty Betty\, Chichester for 45 minutes.
URL:https://chichesterbid.co.uk/event/sweaty-betty-weekly-run-club/2028-09-09/
LOCATION:Sweaty Betty\, 51a South Street\, Chichester\, West Sussex\, PO19 1DS\, United Kingdom
CATEGORIES:Regular Events
ATTACH;FMTTYPE=image/jpeg:https://chichesterbid.co.uk/wp-content/uploads/2024/02/426336202_891359159580183_8292756840449639732_n.jpg
END:VEVENT
BEGIN:VEVENT
DTSTART;TZID=UTC:20280916T090000
DTEND;TZID=UTC:20280916T090000
DTSTAMP:20260420T060945
CREATED:20240213T140904Z
LAST-MODIFIED:20240213T140904Z
UID:10009898-1852707600-1852707600@chichesterbid.co.uk
SUMMARY:Sweaty Betty Weekly Run Club
DESCRIPTION:Join the Sweaty Betty run club every Saturday at 9am. \nAll abilities welcome. \nMeet at 9am at Sweaty Betty\, Chichester for 45 minutes.
URL:https://chichesterbid.co.uk/event/sweaty-betty-weekly-run-club/2028-09-16/
LOCATION:Sweaty Betty\, 51a South Street\, Chichester\, West Sussex\, PO19 1DS\, United Kingdom
CATEGORIES:Regular Events
ATTACH;FMTTYPE=image/jpeg:https://chichesterbid.co.uk/wp-content/uploads/2024/02/426336202_891359159580183_8292756840449639732_n.jpg
END:VEVENT
BEGIN:VEVENT
DTSTART;TZID=UTC:20280923T090000
DTEND;TZID=UTC:20280923T090000
DTSTAMP:20260420T060945
CREATED:20240213T140904Z
LAST-MODIFIED:20240213T140904Z
UID:10009899-1853312400-1853312400@chichesterbid.co.uk
SUMMARY:Sweaty Betty Weekly Run Club
DESCRIPTION:Join the Sweaty Betty run club every Saturday at 9am. \nAll abilities welcome. \nMeet at 9am at Sweaty Betty\, Chichester for 45 minutes.
URL:https://chichesterbid.co.uk/event/sweaty-betty-weekly-run-club/2028-09-23/
LOCATION:Sweaty Betty\, 51a South Street\, Chichester\, West Sussex\, PO19 1DS\, United Kingdom
CATEGORIES:Regular Events
ATTACH;FMTTYPE=image/jpeg:https://chichesterbid.co.uk/wp-content/uploads/2024/02/426336202_891359159580183_8292756840449639732_n.jpg
END:VEVENT
BEGIN:VEVENT
DTSTART;TZID=UTC:20280930T090000
DTEND;TZID=UTC:20280930T090000
DTSTAMP:20260420T060945
CREATED:20240213T140904Z
LAST-MODIFIED:20240213T140904Z
UID:10009900-1853917200-1853917200@chichesterbid.co.uk
SUMMARY:Sweaty Betty Weekly Run Club
DESCRIPTION:Join the Sweaty Betty run club every Saturday at 9am. \nAll abilities welcome. \nMeet at 9am at Sweaty Betty\, Chichester for 45 minutes.
URL:https://chichesterbid.co.uk/event/sweaty-betty-weekly-run-club/2028-09-30/
LOCATION:Sweaty Betty\, 51a South Street\, Chichester\, West Sussex\, PO19 1DS\, United Kingdom
CATEGORIES:Regular Events
ATTACH;FMTTYPE=image/jpeg:https://chichesterbid.co.uk/wp-content/uploads/2024/02/426336202_891359159580183_8292756840449639732_n.jpg
END:VEVENT
BEGIN:VEVENT
DTSTART;TZID=UTC:20281007T090000
DTEND;TZID=UTC:20281007T090000
DTSTAMP:20260420T060945
CREATED:20240213T140904Z
LAST-MODIFIED:20240213T140904Z
UID:10009901-1854522000-1854522000@chichesterbid.co.uk
SUMMARY:Sweaty Betty Weekly Run Club
DESCRIPTION:Join the Sweaty Betty run club every Saturday at 9am. \nAll abilities welcome. \nMeet at 9am at Sweaty Betty\, Chichester for 45 minutes.
URL:https://chichesterbid.co.uk/event/sweaty-betty-weekly-run-club/2028-10-07/
LOCATION:Sweaty Betty\, 51a South Street\, Chichester\, West Sussex\, PO19 1DS\, United Kingdom
CATEGORIES:Regular Events
ATTACH;FMTTYPE=image/jpeg:https://chichesterbid.co.uk/wp-content/uploads/2024/02/426336202_891359159580183_8292756840449639732_n.jpg
END:VEVENT
BEGIN:VEVENT
DTSTART;TZID=UTC:20281014T090000
DTEND;TZID=UTC:20281014T090000
DTSTAMP:20260420T060945
CREATED:20240213T140904Z
LAST-MODIFIED:20240213T140904Z
UID:10009902-1855126800-1855126800@chichesterbid.co.uk
SUMMARY:Sweaty Betty Weekly Run Club
DESCRIPTION:Join the Sweaty Betty run club every Saturday at 9am. \nAll abilities welcome. \nMeet at 9am at Sweaty Betty\, Chichester for 45 minutes.
URL:https://chichesterbid.co.uk/event/sweaty-betty-weekly-run-club/2028-10-14/
LOCATION:Sweaty Betty\, 51a South Street\, Chichester\, West Sussex\, PO19 1DS\, United Kingdom
CATEGORIES:Regular Events
ATTACH;FMTTYPE=image/jpeg:https://chichesterbid.co.uk/wp-content/uploads/2024/02/426336202_891359159580183_8292756840449639732_n.jpg
END:VEVENT
BEGIN:VEVENT
DTSTART;TZID=UTC:20281021T090000
DTEND;TZID=UTC:20281021T090000
DTSTAMP:20260420T060945
CREATED:20240213T140904Z
LAST-MODIFIED:20240213T140904Z
UID:10009903-1855731600-1855731600@chichesterbid.co.uk
SUMMARY:Sweaty Betty Weekly Run Club
DESCRIPTION:Join the Sweaty Betty run club every Saturday at 9am. \nAll abilities welcome. \nMeet at 9am at Sweaty Betty\, Chichester for 45 minutes.
URL:https://chichesterbid.co.uk/event/sweaty-betty-weekly-run-club/2028-10-21/
LOCATION:Sweaty Betty\, 51a South Street\, Chichester\, West Sussex\, PO19 1DS\, United Kingdom
CATEGORIES:Regular Events
ATTACH;FMTTYPE=image/jpeg:https://chichesterbid.co.uk/wp-content/uploads/2024/02/426336202_891359159580183_8292756840449639732_n.jpg
END:VEVENT
BEGIN:VEVENT
DTSTART;TZID=UTC:20281028T090000
DTEND;TZID=UTC:20281028T090000
DTSTAMP:20260420T060945
CREATED:20240213T140904Z
LAST-MODIFIED:20240213T140904Z
UID:10009904-1856336400-1856336400@chichesterbid.co.uk
SUMMARY:Sweaty Betty Weekly Run Club
DESCRIPTION:Join the Sweaty Betty run club every Saturday at 9am. \nAll abilities welcome. \nMeet at 9am at Sweaty Betty\, Chichester for 45 minutes.
URL:https://chichesterbid.co.uk/event/sweaty-betty-weekly-run-club/2028-10-28/
LOCATION:Sweaty Betty\, 51a South Street\, Chichester\, West Sussex\, PO19 1DS\, United Kingdom
CATEGORIES:Regular Events
ATTACH;FMTTYPE=image/jpeg:https://chichesterbid.co.uk/wp-content/uploads/2024/02/426336202_891359159580183_8292756840449639732_n.jpg
END:VEVENT
BEGIN:VEVENT
DTSTART;TZID=UTC:20281104T090000
DTEND;TZID=UTC:20281104T090000
DTSTAMP:20260420T060945
CREATED:20240213T140904Z
LAST-MODIFIED:20240213T140904Z
UID:10009905-1856941200-1856941200@chichesterbid.co.uk
SUMMARY:Sweaty Betty Weekly Run Club
DESCRIPTION:Join the Sweaty Betty run club every Saturday at 9am. \nAll abilities welcome. \nMeet at 9am at Sweaty Betty\, Chichester for 45 minutes.
URL:https://chichesterbid.co.uk/event/sweaty-betty-weekly-run-club/2028-11-04/
LOCATION:Sweaty Betty\, 51a South Street\, Chichester\, West Sussex\, PO19 1DS\, United Kingdom
CATEGORIES:Regular Events
ATTACH;FMTTYPE=image/jpeg:https://chichesterbid.co.uk/wp-content/uploads/2024/02/426336202_891359159580183_8292756840449639732_n.jpg
END:VEVENT
BEGIN:VEVENT
DTSTART;TZID=UTC:20281111T090000
DTEND;TZID=UTC:20281111T090000
DTSTAMP:20260420T060945
CREATED:20240213T140904Z
LAST-MODIFIED:20240213T140904Z
UID:10009906-1857546000-1857546000@chichesterbid.co.uk
SUMMARY:Sweaty Betty Weekly Run Club
DESCRIPTION:Join the Sweaty Betty run club every Saturday at 9am. \nAll abilities welcome. \nMeet at 9am at Sweaty Betty\, Chichester for 45 minutes.
URL:https://chichesterbid.co.uk/event/sweaty-betty-weekly-run-club/2028-11-11/
LOCATION:Sweaty Betty\, 51a South Street\, Chichester\, West Sussex\, PO19 1DS\, United Kingdom
CATEGORIES:Regular Events
ATTACH;FMTTYPE=image/jpeg:https://chichesterbid.co.uk/wp-content/uploads/2024/02/426336202_891359159580183_8292756840449639732_n.jpg
END:VEVENT
BEGIN:VEVENT
DTSTART;TZID=UTC:20281118T090000
DTEND;TZID=UTC:20281118T090000
DTSTAMP:20260420T060945
CREATED:20240213T140904Z
LAST-MODIFIED:20240213T140904Z
UID:10009907-1858150800-1858150800@chichesterbid.co.uk
SUMMARY:Sweaty Betty Weekly Run Club
DESCRIPTION:Join the Sweaty Betty run club every Saturday at 9am. \nAll abilities welcome. \nMeet at 9am at Sweaty Betty\, Chichester for 45 minutes.
URL:https://chichesterbid.co.uk/event/sweaty-betty-weekly-run-club/2028-11-18/
LOCATION:Sweaty Betty\, 51a South Street\, Chichester\, West Sussex\, PO19 1DS\, United Kingdom
CATEGORIES:Regular Events
ATTACH;FMTTYPE=image/jpeg:https://chichesterbid.co.uk/wp-content/uploads/2024/02/426336202_891359159580183_8292756840449639732_n.jpg
END:VEVENT
BEGIN:VEVENT
DTSTART;TZID=UTC:20281125T090000
DTEND;TZID=UTC:20281125T090000
DTSTAMP:20260420T060945
CREATED:20240213T140904Z
LAST-MODIFIED:20240213T140904Z
UID:10009908-1858755600-1858755600@chichesterbid.co.uk
SUMMARY:Sweaty Betty Weekly Run Club
DESCRIPTION:Join the Sweaty Betty run club every Saturday at 9am. \nAll abilities welcome. \nMeet at 9am at Sweaty Betty\, Chichester for 45 minutes.
URL:https://chichesterbid.co.uk/event/sweaty-betty-weekly-run-club/2028-11-25/
LOCATION:Sweaty Betty\, 51a South Street\, Chichester\, West Sussex\, PO19 1DS\, United Kingdom
CATEGORIES:Regular Events
ATTACH;FMTTYPE=image/jpeg:https://chichesterbid.co.uk/wp-content/uploads/2024/02/426336202_891359159580183_8292756840449639732_n.jpg
END:VEVENT
BEGIN:VEVENT
DTSTART;TZID=UTC:20281202T090000
DTEND;TZID=UTC:20281202T090000
DTSTAMP:20260420T060945
CREATED:20240213T140904Z
LAST-MODIFIED:20240213T140904Z
UID:10009909-1859360400-1859360400@chichesterbid.co.uk
SUMMARY:Sweaty Betty Weekly Run Club
DESCRIPTION:Join the Sweaty Betty run club every Saturday at 9am. \nAll abilities welcome. \nMeet at 9am at Sweaty Betty\, Chichester for 45 minutes.
URL:https://chichesterbid.co.uk/event/sweaty-betty-weekly-run-club/2028-12-02/
LOCATION:Sweaty Betty\, 51a South Street\, Chichester\, West Sussex\, PO19 1DS\, United Kingdom
CATEGORIES:Regular Events
ATTACH;FMTTYPE=image/jpeg:https://chichesterbid.co.uk/wp-content/uploads/2024/02/426336202_891359159580183_8292756840449639732_n.jpg
END:VEVENT
BEGIN:VEVENT
DTSTART;TZID=UTC:20281209T090000
DTEND;TZID=UTC:20281209T090000
DTSTAMP:20260420T060945
CREATED:20240213T140904Z
LAST-MODIFIED:20240213T140904Z
UID:10009910-1859965200-1859965200@chichesterbid.co.uk
SUMMARY:Sweaty Betty Weekly Run Club
DESCRIPTION:Join the Sweaty Betty run club every Saturday at 9am. \nAll abilities welcome. \nMeet at 9am at Sweaty Betty\, Chichester for 45 minutes.
URL:https://chichesterbid.co.uk/event/sweaty-betty-weekly-run-club/2028-12-09/
LOCATION:Sweaty Betty\, 51a South Street\, Chichester\, West Sussex\, PO19 1DS\, United Kingdom
CATEGORIES:Regular Events
ATTACH;FMTTYPE=image/jpeg:https://chichesterbid.co.uk/wp-content/uploads/2024/02/426336202_891359159580183_8292756840449639732_n.jpg
END:VEVENT
BEGIN:VEVENT
DTSTART;TZID=UTC:20281216T090000
DTEND;TZID=UTC:20281216T090000
DTSTAMP:20260420T060945
CREATED:20240213T140904Z
LAST-MODIFIED:20240213T140904Z
UID:10009911-1860570000-1860570000@chichesterbid.co.uk
SUMMARY:Sweaty Betty Weekly Run Club
DESCRIPTION:Join the Sweaty Betty run club every Saturday at 9am. \nAll abilities welcome. \nMeet at 9am at Sweaty Betty\, Chichester for 45 minutes.
URL:https://chichesterbid.co.uk/event/sweaty-betty-weekly-run-club/2028-12-16/
LOCATION:Sweaty Betty\, 51a South Street\, Chichester\, West Sussex\, PO19 1DS\, United Kingdom
CATEGORIES:Regular Events
ATTACH;FMTTYPE=image/jpeg:https://chichesterbid.co.uk/wp-content/uploads/2024/02/426336202_891359159580183_8292756840449639732_n.jpg
END:VEVENT
BEGIN:VEVENT
DTSTART;TZID=UTC:20281223T090000
DTEND;TZID=UTC:20281223T090000
DTSTAMP:20260420T060945
CREATED:20240213T140904Z
LAST-MODIFIED:20240213T140904Z
UID:10009912-1861174800-1861174800@chichesterbid.co.uk
SUMMARY:Sweaty Betty Weekly Run Club
DESCRIPTION:Join the Sweaty Betty run club every Saturday at 9am. \nAll abilities welcome. \nMeet at 9am at Sweaty Betty\, Chichester for 45 minutes.
URL:https://chichesterbid.co.uk/event/sweaty-betty-weekly-run-club/2028-12-23/
LOCATION:Sweaty Betty\, 51a South Street\, Chichester\, West Sussex\, PO19 1DS\, United Kingdom
CATEGORIES:Regular Events
ATTACH;FMTTYPE=image/jpeg:https://chichesterbid.co.uk/wp-content/uploads/2024/02/426336202_891359159580183_8292756840449639732_n.jpg
END:VEVENT
BEGIN:VEVENT
DTSTART;TZID=UTC:20281230T090000
DTEND;TZID=UTC:20281230T090000
DTSTAMP:20260420T060945
CREATED:20240213T140904Z
LAST-MODIFIED:20240213T140904Z
UID:10009913-1861779600-1861779600@chichesterbid.co.uk
SUMMARY:Sweaty Betty Weekly Run Club
DESCRIPTION:Join the Sweaty Betty run club every Saturday at 9am. \nAll abilities welcome. \nMeet at 9am at Sweaty Betty\, Chichester for 45 minutes.
URL:https://chichesterbid.co.uk/event/sweaty-betty-weekly-run-club/2028-12-30/
LOCATION:Sweaty Betty\, 51a South Street\, Chichester\, West Sussex\, PO19 1DS\, United Kingdom
CATEGORIES:Regular Events
ATTACH;FMTTYPE=image/jpeg:https://chichesterbid.co.uk/wp-content/uploads/2024/02/426336202_891359159580183_8292756840449639732_n.jpg
END:VEVENT
BEGIN:VEVENT
DTSTART;TZID=UTC:20290106T090000
DTEND;TZID=UTC:20290106T090000
DTSTAMP:20260420T060945
CREATED:20240213T140904Z
LAST-MODIFIED:20240213T140904Z
UID:10009914-1862384400-1862384400@chichesterbid.co.uk
SUMMARY:Sweaty Betty Weekly Run Club
DESCRIPTION:Join the Sweaty Betty run club every Saturday at 9am. \nAll abilities welcome. \nMeet at 9am at Sweaty Betty\, Chichester for 45 minutes.
URL:https://chichesterbid.co.uk/event/sweaty-betty-weekly-run-club/2029-01-06/
LOCATION:Sweaty Betty\, 51a South Street\, Chichester\, West Sussex\, PO19 1DS\, United Kingdom
CATEGORIES:Regular Events
ATTACH;FMTTYPE=image/jpeg:https://chichesterbid.co.uk/wp-content/uploads/2024/02/426336202_891359159580183_8292756840449639732_n.jpg
END:VEVENT
BEGIN:VEVENT
DTSTART;TZID=UTC:20290113T090000
DTEND;TZID=UTC:20290113T090000
DTSTAMP:20260420T060945
CREATED:20240213T140904Z
LAST-MODIFIED:20240213T140904Z
UID:10009915-1862989200-1862989200@chichesterbid.co.uk
SUMMARY:Sweaty Betty Weekly Run Club
DESCRIPTION:Join the Sweaty Betty run club every Saturday at 9am. \nAll abilities welcome. \nMeet at 9am at Sweaty Betty\, Chichester for 45 minutes.
URL:https://chichesterbid.co.uk/event/sweaty-betty-weekly-run-club/2029-01-13/
LOCATION:Sweaty Betty\, 51a South Street\, Chichester\, West Sussex\, PO19 1DS\, United Kingdom
CATEGORIES:Regular Events
ATTACH;FMTTYPE=image/jpeg:https://chichesterbid.co.uk/wp-content/uploads/2024/02/426336202_891359159580183_8292756840449639732_n.jpg
END:VEVENT
BEGIN:VEVENT
DTSTART;TZID=UTC:20290120T090000
DTEND;TZID=UTC:20290120T090000
DTSTAMP:20260420T060945
CREATED:20240213T140904Z
LAST-MODIFIED:20240213T140904Z
UID:10009916-1863594000-1863594000@chichesterbid.co.uk
SUMMARY:Sweaty Betty Weekly Run Club
DESCRIPTION:Join the Sweaty Betty run club every Saturday at 9am. \nAll abilities welcome. \nMeet at 9am at Sweaty Betty\, Chichester for 45 minutes.
URL:https://chichesterbid.co.uk/event/sweaty-betty-weekly-run-club/2029-01-20/
LOCATION:Sweaty Betty\, 51a South Street\, Chichester\, West Sussex\, PO19 1DS\, United Kingdom
CATEGORIES:Regular Events
ATTACH;FMTTYPE=image/jpeg:https://chichesterbid.co.uk/wp-content/uploads/2024/02/426336202_891359159580183_8292756840449639732_n.jpg
END:VEVENT
BEGIN:VEVENT
DTSTART;TZID=UTC:20290127T090000
DTEND;TZID=UTC:20290127T090000
DTSTAMP:20260420T060945
CREATED:20240213T140904Z
LAST-MODIFIED:20240213T140904Z
UID:10009917-1864198800-1864198800@chichesterbid.co.uk
SUMMARY:Sweaty Betty Weekly Run Club
DESCRIPTION:Join the Sweaty Betty run club every Saturday at 9am. \nAll abilities welcome. \nMeet at 9am at Sweaty Betty\, Chichester for 45 minutes.
URL:https://chichesterbid.co.uk/event/sweaty-betty-weekly-run-club/2029-01-27/
LOCATION:Sweaty Betty\, 51a South Street\, Chichester\, West Sussex\, PO19 1DS\, United Kingdom
CATEGORIES:Regular Events
ATTACH;FMTTYPE=image/jpeg:https://chichesterbid.co.uk/wp-content/uploads/2024/02/426336202_891359159580183_8292756840449639732_n.jpg
END:VEVENT
BEGIN:VEVENT
DTSTART;TZID=UTC:20290203T090000
DTEND;TZID=UTC:20290203T090000
DTSTAMP:20260420T060945
CREATED:20240213T140904Z
LAST-MODIFIED:20240213T140904Z
UID:10009918-1864803600-1864803600@chichesterbid.co.uk
SUMMARY:Sweaty Betty Weekly Run Club
DESCRIPTION:Join the Sweaty Betty run club every Saturday at 9am. \nAll abilities welcome. \nMeet at 9am at Sweaty Betty\, Chichester for 45 minutes.
URL:https://chichesterbid.co.uk/event/sweaty-betty-weekly-run-club/2029-02-03/
LOCATION:Sweaty Betty\, 51a South Street\, Chichester\, West Sussex\, PO19 1DS\, United Kingdom
CATEGORIES:Regular Events
ATTACH;FMTTYPE=image/jpeg:https://chichesterbid.co.uk/wp-content/uploads/2024/02/426336202_891359159580183_8292756840449639732_n.jpg
END:VEVENT
BEGIN:VEVENT
DTSTART;TZID=UTC:20290210T090000
DTEND;TZID=UTC:20290210T090000
DTSTAMP:20260420T060945
CREATED:20240213T140904Z
LAST-MODIFIED:20240213T140904Z
UID:10009919-1865408400-1865408400@chichesterbid.co.uk
SUMMARY:Sweaty Betty Weekly Run Club
DESCRIPTION:Join the Sweaty Betty run club every Saturday at 9am. \nAll abilities welcome. \nMeet at 9am at Sweaty Betty\, Chichester for 45 minutes.
URL:https://chichesterbid.co.uk/event/sweaty-betty-weekly-run-club/2029-02-10/
LOCATION:Sweaty Betty\, 51a South Street\, Chichester\, West Sussex\, PO19 1DS\, United Kingdom
CATEGORIES:Regular Events
ATTACH;FMTTYPE=image/jpeg:https://chichesterbid.co.uk/wp-content/uploads/2024/02/426336202_891359159580183_8292756840449639732_n.jpg
END:VEVENT
END:VCALENDAR