BEGIN:VCALENDAR
VERSION:2.0
PRODID:-//Chichester BID - ECPv6.15.17.1//NONSGML v1.0//EN
CALSCALE:GREGORIAN
METHOD:PUBLISH
X-ORIGINAL-URL:https://chichesterbid.co.uk
X-WR-CALDESC:Events for Chichester BID
REFRESH-INTERVAL;VALUE=DURATION:PT1H
X-Robots-Tag:noindex
X-PUBLISHED-TTL:PT1H
BEGIN:VTIMEZONE
TZID:UTC
BEGIN:STANDARD
TZOFFSETFROM:+0000
TZOFFSETTO:+0000
TZNAME:UTC
DTSTART:20270101T000000
END:STANDARD
END:VTIMEZONE
BEGIN:VEVENT
DTSTART;TZID=UTC:20280226T090000
DTEND;TZID=UTC:20280226T090000
DTSTAMP:20260419T130657
CREATED:20240213T140904Z
LAST-MODIFIED:20240213T140904Z
UID:10009869-1835168400-1835168400@chichesterbid.co.uk
SUMMARY:Sweaty Betty Weekly Run Club
DESCRIPTION:Join the Sweaty Betty run club every Saturday at 9am. \nAll abilities welcome. \nMeet at 9am at Sweaty Betty\, Chichester for 45 minutes.
URL:https://chichesterbid.co.uk/event/sweaty-betty-weekly-run-club/2028-02-26/
LOCATION:Sweaty Betty\, 51a South Street\, Chichester\, West Sussex\, PO19 1DS\, United Kingdom
CATEGORIES:Regular Events
ATTACH;FMTTYPE=image/jpeg:https://chichesterbid.co.uk/wp-content/uploads/2024/02/426336202_891359159580183_8292756840449639732_n.jpg
END:VEVENT
BEGIN:VEVENT
DTSTART;TZID=UTC:20280304T090000
DTEND;TZID=UTC:20280304T090000
DTSTAMP:20260419T130657
CREATED:20240213T140904Z
LAST-MODIFIED:20240213T140904Z
UID:10009870-1835773200-1835773200@chichesterbid.co.uk
SUMMARY:Sweaty Betty Weekly Run Club
DESCRIPTION:Join the Sweaty Betty run club every Saturday at 9am. \nAll abilities welcome. \nMeet at 9am at Sweaty Betty\, Chichester for 45 minutes.
URL:https://chichesterbid.co.uk/event/sweaty-betty-weekly-run-club/2028-03-04/
LOCATION:Sweaty Betty\, 51a South Street\, Chichester\, West Sussex\, PO19 1DS\, United Kingdom
CATEGORIES:Regular Events
ATTACH;FMTTYPE=image/jpeg:https://chichesterbid.co.uk/wp-content/uploads/2024/02/426336202_891359159580183_8292756840449639732_n.jpg
END:VEVENT
BEGIN:VEVENT
DTSTART;TZID=UTC:20280311T090000
DTEND;TZID=UTC:20280311T090000
DTSTAMP:20260419T130657
CREATED:20240213T140904Z
LAST-MODIFIED:20240213T140904Z
UID:10009871-1836378000-1836378000@chichesterbid.co.uk
SUMMARY:Sweaty Betty Weekly Run Club
DESCRIPTION:Join the Sweaty Betty run club every Saturday at 9am. \nAll abilities welcome. \nMeet at 9am at Sweaty Betty\, Chichester for 45 minutes.
URL:https://chichesterbid.co.uk/event/sweaty-betty-weekly-run-club/2028-03-11/
LOCATION:Sweaty Betty\, 51a South Street\, Chichester\, West Sussex\, PO19 1DS\, United Kingdom
CATEGORIES:Regular Events
ATTACH;FMTTYPE=image/jpeg:https://chichesterbid.co.uk/wp-content/uploads/2024/02/426336202_891359159580183_8292756840449639732_n.jpg
END:VEVENT
BEGIN:VEVENT
DTSTART;TZID=UTC:20280318T090000
DTEND;TZID=UTC:20280318T090000
DTSTAMP:20260419T130657
CREATED:20240213T140904Z
LAST-MODIFIED:20240213T140904Z
UID:10009872-1836982800-1836982800@chichesterbid.co.uk
SUMMARY:Sweaty Betty Weekly Run Club
DESCRIPTION:Join the Sweaty Betty run club every Saturday at 9am. \nAll abilities welcome. \nMeet at 9am at Sweaty Betty\, Chichester for 45 minutes.
URL:https://chichesterbid.co.uk/event/sweaty-betty-weekly-run-club/2028-03-18/
LOCATION:Sweaty Betty\, 51a South Street\, Chichester\, West Sussex\, PO19 1DS\, United Kingdom
CATEGORIES:Regular Events
ATTACH;FMTTYPE=image/jpeg:https://chichesterbid.co.uk/wp-content/uploads/2024/02/426336202_891359159580183_8292756840449639732_n.jpg
END:VEVENT
BEGIN:VEVENT
DTSTART;TZID=UTC:20280325T090000
DTEND;TZID=UTC:20280325T090000
DTSTAMP:20260419T130657
CREATED:20240213T140904Z
LAST-MODIFIED:20240213T140904Z
UID:10009873-1837587600-1837587600@chichesterbid.co.uk
SUMMARY:Sweaty Betty Weekly Run Club
DESCRIPTION:Join the Sweaty Betty run club every Saturday at 9am. \nAll abilities welcome. \nMeet at 9am at Sweaty Betty\, Chichester for 45 minutes.
URL:https://chichesterbid.co.uk/event/sweaty-betty-weekly-run-club/2028-03-25/
LOCATION:Sweaty Betty\, 51a South Street\, Chichester\, West Sussex\, PO19 1DS\, United Kingdom
CATEGORIES:Regular Events
ATTACH;FMTTYPE=image/jpeg:https://chichesterbid.co.uk/wp-content/uploads/2024/02/426336202_891359159580183_8292756840449639732_n.jpg
END:VEVENT
BEGIN:VEVENT
DTSTART;TZID=UTC:20280401T090000
DTEND;TZID=UTC:20280401T090000
DTSTAMP:20260419T130657
CREATED:20240213T140904Z
LAST-MODIFIED:20240213T140904Z
UID:10009874-1838192400-1838192400@chichesterbid.co.uk
SUMMARY:Sweaty Betty Weekly Run Club
DESCRIPTION:Join the Sweaty Betty run club every Saturday at 9am. \nAll abilities welcome. \nMeet at 9am at Sweaty Betty\, Chichester for 45 minutes.
URL:https://chichesterbid.co.uk/event/sweaty-betty-weekly-run-club/2028-04-01/
LOCATION:Sweaty Betty\, 51a South Street\, Chichester\, West Sussex\, PO19 1DS\, United Kingdom
CATEGORIES:Regular Events
ATTACH;FMTTYPE=image/jpeg:https://chichesterbid.co.uk/wp-content/uploads/2024/02/426336202_891359159580183_8292756840449639732_n.jpg
END:VEVENT
BEGIN:VEVENT
DTSTART;TZID=UTC:20280408T090000
DTEND;TZID=UTC:20280408T090000
DTSTAMP:20260419T130657
CREATED:20240213T140904Z
LAST-MODIFIED:20240213T140904Z
UID:10009875-1838797200-1838797200@chichesterbid.co.uk
SUMMARY:Sweaty Betty Weekly Run Club
DESCRIPTION:Join the Sweaty Betty run club every Saturday at 9am. \nAll abilities welcome. \nMeet at 9am at Sweaty Betty\, Chichester for 45 minutes.
URL:https://chichesterbid.co.uk/event/sweaty-betty-weekly-run-club/2028-04-08/
LOCATION:Sweaty Betty\, 51a South Street\, Chichester\, West Sussex\, PO19 1DS\, United Kingdom
CATEGORIES:Regular Events
ATTACH;FMTTYPE=image/jpeg:https://chichesterbid.co.uk/wp-content/uploads/2024/02/426336202_891359159580183_8292756840449639732_n.jpg
END:VEVENT
BEGIN:VEVENT
DTSTART;TZID=UTC:20280415T090000
DTEND;TZID=UTC:20280415T090000
DTSTAMP:20260419T130657
CREATED:20240213T140904Z
LAST-MODIFIED:20240213T140904Z
UID:10009876-1839402000-1839402000@chichesterbid.co.uk
SUMMARY:Sweaty Betty Weekly Run Club
DESCRIPTION:Join the Sweaty Betty run club every Saturday at 9am. \nAll abilities welcome. \nMeet at 9am at Sweaty Betty\, Chichester for 45 minutes.
URL:https://chichesterbid.co.uk/event/sweaty-betty-weekly-run-club/2028-04-15/
LOCATION:Sweaty Betty\, 51a South Street\, Chichester\, West Sussex\, PO19 1DS\, United Kingdom
CATEGORIES:Regular Events
ATTACH;FMTTYPE=image/jpeg:https://chichesterbid.co.uk/wp-content/uploads/2024/02/426336202_891359159580183_8292756840449639732_n.jpg
END:VEVENT
BEGIN:VEVENT
DTSTART;TZID=UTC:20280422T090000
DTEND;TZID=UTC:20280422T090000
DTSTAMP:20260419T130657
CREATED:20240213T140904Z
LAST-MODIFIED:20240213T140904Z
UID:10009877-1840006800-1840006800@chichesterbid.co.uk
SUMMARY:Sweaty Betty Weekly Run Club
DESCRIPTION:Join the Sweaty Betty run club every Saturday at 9am. \nAll abilities welcome. \nMeet at 9am at Sweaty Betty\, Chichester for 45 minutes.
URL:https://chichesterbid.co.uk/event/sweaty-betty-weekly-run-club/2028-04-22/
LOCATION:Sweaty Betty\, 51a South Street\, Chichester\, West Sussex\, PO19 1DS\, United Kingdom
CATEGORIES:Regular Events
ATTACH;FMTTYPE=image/jpeg:https://chichesterbid.co.uk/wp-content/uploads/2024/02/426336202_891359159580183_8292756840449639732_n.jpg
END:VEVENT
BEGIN:VEVENT
DTSTART;TZID=UTC:20280429T090000
DTEND;TZID=UTC:20280429T090000
DTSTAMP:20260419T130657
CREATED:20240213T140904Z
LAST-MODIFIED:20240213T140904Z
UID:10009878-1840611600-1840611600@chichesterbid.co.uk
SUMMARY:Sweaty Betty Weekly Run Club
DESCRIPTION:Join the Sweaty Betty run club every Saturday at 9am. \nAll abilities welcome. \nMeet at 9am at Sweaty Betty\, Chichester for 45 minutes.
URL:https://chichesterbid.co.uk/event/sweaty-betty-weekly-run-club/2028-04-29/
LOCATION:Sweaty Betty\, 51a South Street\, Chichester\, West Sussex\, PO19 1DS\, United Kingdom
CATEGORIES:Regular Events
ATTACH;FMTTYPE=image/jpeg:https://chichesterbid.co.uk/wp-content/uploads/2024/02/426336202_891359159580183_8292756840449639732_n.jpg
END:VEVENT
BEGIN:VEVENT
DTSTART;TZID=UTC:20280506T090000
DTEND;TZID=UTC:20280506T090000
DTSTAMP:20260419T130657
CREATED:20240213T140904Z
LAST-MODIFIED:20240213T140904Z
UID:10009879-1841216400-1841216400@chichesterbid.co.uk
SUMMARY:Sweaty Betty Weekly Run Club
DESCRIPTION:Join the Sweaty Betty run club every Saturday at 9am. \nAll abilities welcome. \nMeet at 9am at Sweaty Betty\, Chichester for 45 minutes.
URL:https://chichesterbid.co.uk/event/sweaty-betty-weekly-run-club/2028-05-06/
LOCATION:Sweaty Betty\, 51a South Street\, Chichester\, West Sussex\, PO19 1DS\, United Kingdom
CATEGORIES:Regular Events
ATTACH;FMTTYPE=image/jpeg:https://chichesterbid.co.uk/wp-content/uploads/2024/02/426336202_891359159580183_8292756840449639732_n.jpg
END:VEVENT
BEGIN:VEVENT
DTSTART;TZID=UTC:20280513T090000
DTEND;TZID=UTC:20280513T090000
DTSTAMP:20260419T130657
CREATED:20240213T140904Z
LAST-MODIFIED:20240213T140904Z
UID:10009880-1841821200-1841821200@chichesterbid.co.uk
SUMMARY:Sweaty Betty Weekly Run Club
DESCRIPTION:Join the Sweaty Betty run club every Saturday at 9am. \nAll abilities welcome. \nMeet at 9am at Sweaty Betty\, Chichester for 45 minutes.
URL:https://chichesterbid.co.uk/event/sweaty-betty-weekly-run-club/2028-05-13/
LOCATION:Sweaty Betty\, 51a South Street\, Chichester\, West Sussex\, PO19 1DS\, United Kingdom
CATEGORIES:Regular Events
ATTACH;FMTTYPE=image/jpeg:https://chichesterbid.co.uk/wp-content/uploads/2024/02/426336202_891359159580183_8292756840449639732_n.jpg
END:VEVENT
BEGIN:VEVENT
DTSTART;TZID=UTC:20280520T090000
DTEND;TZID=UTC:20280520T090000
DTSTAMP:20260419T130657
CREATED:20240213T140904Z
LAST-MODIFIED:20240213T140904Z
UID:10009881-1842426000-1842426000@chichesterbid.co.uk
SUMMARY:Sweaty Betty Weekly Run Club
DESCRIPTION:Join the Sweaty Betty run club every Saturday at 9am. \nAll abilities welcome. \nMeet at 9am at Sweaty Betty\, Chichester for 45 minutes.
URL:https://chichesterbid.co.uk/event/sweaty-betty-weekly-run-club/2028-05-20/
LOCATION:Sweaty Betty\, 51a South Street\, Chichester\, West Sussex\, PO19 1DS\, United Kingdom
CATEGORIES:Regular Events
ATTACH;FMTTYPE=image/jpeg:https://chichesterbid.co.uk/wp-content/uploads/2024/02/426336202_891359159580183_8292756840449639732_n.jpg
END:VEVENT
BEGIN:VEVENT
DTSTART;TZID=UTC:20280527T090000
DTEND;TZID=UTC:20280527T090000
DTSTAMP:20260419T130657
CREATED:20240213T140904Z
LAST-MODIFIED:20240213T140904Z
UID:10009882-1843030800-1843030800@chichesterbid.co.uk
SUMMARY:Sweaty Betty Weekly Run Club
DESCRIPTION:Join the Sweaty Betty run club every Saturday at 9am. \nAll abilities welcome. \nMeet at 9am at Sweaty Betty\, Chichester for 45 minutes.
URL:https://chichesterbid.co.uk/event/sweaty-betty-weekly-run-club/2028-05-27/
LOCATION:Sweaty Betty\, 51a South Street\, Chichester\, West Sussex\, PO19 1DS\, United Kingdom
CATEGORIES:Regular Events
ATTACH;FMTTYPE=image/jpeg:https://chichesterbid.co.uk/wp-content/uploads/2024/02/426336202_891359159580183_8292756840449639732_n.jpg
END:VEVENT
BEGIN:VEVENT
DTSTART;TZID=UTC:20280603T090000
DTEND;TZID=UTC:20280603T090000
DTSTAMP:20260419T130657
CREATED:20240213T140904Z
LAST-MODIFIED:20240213T140904Z
UID:10009883-1843635600-1843635600@chichesterbid.co.uk
SUMMARY:Sweaty Betty Weekly Run Club
DESCRIPTION:Join the Sweaty Betty run club every Saturday at 9am. \nAll abilities welcome. \nMeet at 9am at Sweaty Betty\, Chichester for 45 minutes.
URL:https://chichesterbid.co.uk/event/sweaty-betty-weekly-run-club/2028-06-03/
LOCATION:Sweaty Betty\, 51a South Street\, Chichester\, West Sussex\, PO19 1DS\, United Kingdom
CATEGORIES:Regular Events
ATTACH;FMTTYPE=image/jpeg:https://chichesterbid.co.uk/wp-content/uploads/2024/02/426336202_891359159580183_8292756840449639732_n.jpg
END:VEVENT
BEGIN:VEVENT
DTSTART;TZID=UTC:20280610T090000
DTEND;TZID=UTC:20280610T090000
DTSTAMP:20260419T130657
CREATED:20240213T140904Z
LAST-MODIFIED:20240213T140904Z
UID:10009884-1844240400-1844240400@chichesterbid.co.uk
SUMMARY:Sweaty Betty Weekly Run Club
DESCRIPTION:Join the Sweaty Betty run club every Saturday at 9am. \nAll abilities welcome. \nMeet at 9am at Sweaty Betty\, Chichester for 45 minutes.
URL:https://chichesterbid.co.uk/event/sweaty-betty-weekly-run-club/2028-06-10/
LOCATION:Sweaty Betty\, 51a South Street\, Chichester\, West Sussex\, PO19 1DS\, United Kingdom
CATEGORIES:Regular Events
ATTACH;FMTTYPE=image/jpeg:https://chichesterbid.co.uk/wp-content/uploads/2024/02/426336202_891359159580183_8292756840449639732_n.jpg
END:VEVENT
BEGIN:VEVENT
DTSTART;TZID=UTC:20280617T090000
DTEND;TZID=UTC:20280617T090000
DTSTAMP:20260419T130657
CREATED:20240213T140904Z
LAST-MODIFIED:20240213T140904Z
UID:10009885-1844845200-1844845200@chichesterbid.co.uk
SUMMARY:Sweaty Betty Weekly Run Club
DESCRIPTION:Join the Sweaty Betty run club every Saturday at 9am. \nAll abilities welcome. \nMeet at 9am at Sweaty Betty\, Chichester for 45 minutes.
URL:https://chichesterbid.co.uk/event/sweaty-betty-weekly-run-club/2028-06-17/
LOCATION:Sweaty Betty\, 51a South Street\, Chichester\, West Sussex\, PO19 1DS\, United Kingdom
CATEGORIES:Regular Events
ATTACH;FMTTYPE=image/jpeg:https://chichesterbid.co.uk/wp-content/uploads/2024/02/426336202_891359159580183_8292756840449639732_n.jpg
END:VEVENT
BEGIN:VEVENT
DTSTART;TZID=UTC:20280624T090000
DTEND;TZID=UTC:20280624T090000
DTSTAMP:20260419T130657
CREATED:20240213T140904Z
LAST-MODIFIED:20240213T140904Z
UID:10009886-1845450000-1845450000@chichesterbid.co.uk
SUMMARY:Sweaty Betty Weekly Run Club
DESCRIPTION:Join the Sweaty Betty run club every Saturday at 9am. \nAll abilities welcome. \nMeet at 9am at Sweaty Betty\, Chichester for 45 minutes.
URL:https://chichesterbid.co.uk/event/sweaty-betty-weekly-run-club/2028-06-24/
LOCATION:Sweaty Betty\, 51a South Street\, Chichester\, West Sussex\, PO19 1DS\, United Kingdom
CATEGORIES:Regular Events
ATTACH;FMTTYPE=image/jpeg:https://chichesterbid.co.uk/wp-content/uploads/2024/02/426336202_891359159580183_8292756840449639732_n.jpg
END:VEVENT
BEGIN:VEVENT
DTSTART;TZID=UTC:20280701T090000
DTEND;TZID=UTC:20280701T090000
DTSTAMP:20260419T130657
CREATED:20240213T140904Z
LAST-MODIFIED:20240213T140904Z
UID:10009887-1846054800-1846054800@chichesterbid.co.uk
SUMMARY:Sweaty Betty Weekly Run Club
DESCRIPTION:Join the Sweaty Betty run club every Saturday at 9am. \nAll abilities welcome. \nMeet at 9am at Sweaty Betty\, Chichester for 45 minutes.
URL:https://chichesterbid.co.uk/event/sweaty-betty-weekly-run-club/2028-07-01/
LOCATION:Sweaty Betty\, 51a South Street\, Chichester\, West Sussex\, PO19 1DS\, United Kingdom
CATEGORIES:Regular Events
ATTACH;FMTTYPE=image/jpeg:https://chichesterbid.co.uk/wp-content/uploads/2024/02/426336202_891359159580183_8292756840449639732_n.jpg
END:VEVENT
BEGIN:VEVENT
DTSTART;TZID=UTC:20280708T090000
DTEND;TZID=UTC:20280708T090000
DTSTAMP:20260419T130657
CREATED:20240213T140904Z
LAST-MODIFIED:20240213T140904Z
UID:10009888-1846659600-1846659600@chichesterbid.co.uk
SUMMARY:Sweaty Betty Weekly Run Club
DESCRIPTION:Join the Sweaty Betty run club every Saturday at 9am. \nAll abilities welcome. \nMeet at 9am at Sweaty Betty\, Chichester for 45 minutes.
URL:https://chichesterbid.co.uk/event/sweaty-betty-weekly-run-club/2028-07-08/
LOCATION:Sweaty Betty\, 51a South Street\, Chichester\, West Sussex\, PO19 1DS\, United Kingdom
CATEGORIES:Regular Events
ATTACH;FMTTYPE=image/jpeg:https://chichesterbid.co.uk/wp-content/uploads/2024/02/426336202_891359159580183_8292756840449639732_n.jpg
END:VEVENT
BEGIN:VEVENT
DTSTART;TZID=UTC:20280715T090000
DTEND;TZID=UTC:20280715T090000
DTSTAMP:20260419T130657
CREATED:20240213T140904Z
LAST-MODIFIED:20240213T140904Z
UID:10009889-1847264400-1847264400@chichesterbid.co.uk
SUMMARY:Sweaty Betty Weekly Run Club
DESCRIPTION:Join the Sweaty Betty run club every Saturday at 9am. \nAll abilities welcome. \nMeet at 9am at Sweaty Betty\, Chichester for 45 minutes.
URL:https://chichesterbid.co.uk/event/sweaty-betty-weekly-run-club/2028-07-15/
LOCATION:Sweaty Betty\, 51a South Street\, Chichester\, West Sussex\, PO19 1DS\, United Kingdom
CATEGORIES:Regular Events
ATTACH;FMTTYPE=image/jpeg:https://chichesterbid.co.uk/wp-content/uploads/2024/02/426336202_891359159580183_8292756840449639732_n.jpg
END:VEVENT
BEGIN:VEVENT
DTSTART;TZID=UTC:20280722T090000
DTEND;TZID=UTC:20280722T090000
DTSTAMP:20260419T130657
CREATED:20240213T140904Z
LAST-MODIFIED:20240213T140904Z
UID:10009890-1847869200-1847869200@chichesterbid.co.uk
SUMMARY:Sweaty Betty Weekly Run Club
DESCRIPTION:Join the Sweaty Betty run club every Saturday at 9am. \nAll abilities welcome. \nMeet at 9am at Sweaty Betty\, Chichester for 45 minutes.
URL:https://chichesterbid.co.uk/event/sweaty-betty-weekly-run-club/2028-07-22/
LOCATION:Sweaty Betty\, 51a South Street\, Chichester\, West Sussex\, PO19 1DS\, United Kingdom
CATEGORIES:Regular Events
ATTACH;FMTTYPE=image/jpeg:https://chichesterbid.co.uk/wp-content/uploads/2024/02/426336202_891359159580183_8292756840449639732_n.jpg
END:VEVENT
BEGIN:VEVENT
DTSTART;TZID=UTC:20280729T090000
DTEND;TZID=UTC:20280729T090000
DTSTAMP:20260419T130657
CREATED:20240213T140904Z
LAST-MODIFIED:20240213T140904Z
UID:10009891-1848474000-1848474000@chichesterbid.co.uk
SUMMARY:Sweaty Betty Weekly Run Club
DESCRIPTION:Join the Sweaty Betty run club every Saturday at 9am. \nAll abilities welcome. \nMeet at 9am at Sweaty Betty\, Chichester for 45 minutes.
URL:https://chichesterbid.co.uk/event/sweaty-betty-weekly-run-club/2028-07-29/
LOCATION:Sweaty Betty\, 51a South Street\, Chichester\, West Sussex\, PO19 1DS\, United Kingdom
CATEGORIES:Regular Events
ATTACH;FMTTYPE=image/jpeg:https://chichesterbid.co.uk/wp-content/uploads/2024/02/426336202_891359159580183_8292756840449639732_n.jpg
END:VEVENT
BEGIN:VEVENT
DTSTART;TZID=UTC:20280805T090000
DTEND;TZID=UTC:20280805T090000
DTSTAMP:20260419T130657
CREATED:20240213T140904Z
LAST-MODIFIED:20240213T140904Z
UID:10009892-1849078800-1849078800@chichesterbid.co.uk
SUMMARY:Sweaty Betty Weekly Run Club
DESCRIPTION:Join the Sweaty Betty run club every Saturday at 9am. \nAll abilities welcome. \nMeet at 9am at Sweaty Betty\, Chichester for 45 minutes.
URL:https://chichesterbid.co.uk/event/sweaty-betty-weekly-run-club/2028-08-05/
LOCATION:Sweaty Betty\, 51a South Street\, Chichester\, West Sussex\, PO19 1DS\, United Kingdom
CATEGORIES:Regular Events
ATTACH;FMTTYPE=image/jpeg:https://chichesterbid.co.uk/wp-content/uploads/2024/02/426336202_891359159580183_8292756840449639732_n.jpg
END:VEVENT
BEGIN:VEVENT
DTSTART;TZID=UTC:20280812T090000
DTEND;TZID=UTC:20280812T090000
DTSTAMP:20260419T130657
CREATED:20240213T140904Z
LAST-MODIFIED:20240213T140904Z
UID:10009893-1849683600-1849683600@chichesterbid.co.uk
SUMMARY:Sweaty Betty Weekly Run Club
DESCRIPTION:Join the Sweaty Betty run club every Saturday at 9am. \nAll abilities welcome. \nMeet at 9am at Sweaty Betty\, Chichester for 45 minutes.
URL:https://chichesterbid.co.uk/event/sweaty-betty-weekly-run-club/2028-08-12/
LOCATION:Sweaty Betty\, 51a South Street\, Chichester\, West Sussex\, PO19 1DS\, United Kingdom
CATEGORIES:Regular Events
ATTACH;FMTTYPE=image/jpeg:https://chichesterbid.co.uk/wp-content/uploads/2024/02/426336202_891359159580183_8292756840449639732_n.jpg
END:VEVENT
BEGIN:VEVENT
DTSTART;TZID=UTC:20280819T090000
DTEND;TZID=UTC:20280819T090000
DTSTAMP:20260419T130657
CREATED:20240213T140904Z
LAST-MODIFIED:20240213T140904Z
UID:10009894-1850288400-1850288400@chichesterbid.co.uk
SUMMARY:Sweaty Betty Weekly Run Club
DESCRIPTION:Join the Sweaty Betty run club every Saturday at 9am. \nAll abilities welcome. \nMeet at 9am at Sweaty Betty\, Chichester for 45 minutes.
URL:https://chichesterbid.co.uk/event/sweaty-betty-weekly-run-club/2028-08-19/
LOCATION:Sweaty Betty\, 51a South Street\, Chichester\, West Sussex\, PO19 1DS\, United Kingdom
CATEGORIES:Regular Events
ATTACH;FMTTYPE=image/jpeg:https://chichesterbid.co.uk/wp-content/uploads/2024/02/426336202_891359159580183_8292756840449639732_n.jpg
END:VEVENT
BEGIN:VEVENT
DTSTART;TZID=UTC:20280826T090000
DTEND;TZID=UTC:20280826T090000
DTSTAMP:20260419T130657
CREATED:20240213T140904Z
LAST-MODIFIED:20240213T140904Z
UID:10009895-1850893200-1850893200@chichesterbid.co.uk
SUMMARY:Sweaty Betty Weekly Run Club
DESCRIPTION:Join the Sweaty Betty run club every Saturday at 9am. \nAll abilities welcome. \nMeet at 9am at Sweaty Betty\, Chichester for 45 minutes.
URL:https://chichesterbid.co.uk/event/sweaty-betty-weekly-run-club/2028-08-26/
LOCATION:Sweaty Betty\, 51a South Street\, Chichester\, West Sussex\, PO19 1DS\, United Kingdom
CATEGORIES:Regular Events
ATTACH;FMTTYPE=image/jpeg:https://chichesterbid.co.uk/wp-content/uploads/2024/02/426336202_891359159580183_8292756840449639732_n.jpg
END:VEVENT
BEGIN:VEVENT
DTSTART;TZID=UTC:20280902T090000
DTEND;TZID=UTC:20280902T090000
DTSTAMP:20260419T130657
CREATED:20240213T140904Z
LAST-MODIFIED:20240213T140904Z
UID:10009896-1851498000-1851498000@chichesterbid.co.uk
SUMMARY:Sweaty Betty Weekly Run Club
DESCRIPTION:Join the Sweaty Betty run club every Saturday at 9am. \nAll abilities welcome. \nMeet at 9am at Sweaty Betty\, Chichester for 45 minutes.
URL:https://chichesterbid.co.uk/event/sweaty-betty-weekly-run-club/2028-09-02/
LOCATION:Sweaty Betty\, 51a South Street\, Chichester\, West Sussex\, PO19 1DS\, United Kingdom
CATEGORIES:Regular Events
ATTACH;FMTTYPE=image/jpeg:https://chichesterbid.co.uk/wp-content/uploads/2024/02/426336202_891359159580183_8292756840449639732_n.jpg
END:VEVENT
BEGIN:VEVENT
DTSTART;TZID=UTC:20280909T090000
DTEND;TZID=UTC:20280909T090000
DTSTAMP:20260419T130657
CREATED:20240213T140904Z
LAST-MODIFIED:20240213T140904Z
UID:10009897-1852102800-1852102800@chichesterbid.co.uk
SUMMARY:Sweaty Betty Weekly Run Club
DESCRIPTION:Join the Sweaty Betty run club every Saturday at 9am. \nAll abilities welcome. \nMeet at 9am at Sweaty Betty\, Chichester for 45 minutes.
URL:https://chichesterbid.co.uk/event/sweaty-betty-weekly-run-club/2028-09-09/
LOCATION:Sweaty Betty\, 51a South Street\, Chichester\, West Sussex\, PO19 1DS\, United Kingdom
CATEGORIES:Regular Events
ATTACH;FMTTYPE=image/jpeg:https://chichesterbid.co.uk/wp-content/uploads/2024/02/426336202_891359159580183_8292756840449639732_n.jpg
END:VEVENT
BEGIN:VEVENT
DTSTART;TZID=UTC:20280916T090000
DTEND;TZID=UTC:20280916T090000
DTSTAMP:20260419T130657
CREATED:20240213T140904Z
LAST-MODIFIED:20240213T140904Z
UID:10009898-1852707600-1852707600@chichesterbid.co.uk
SUMMARY:Sweaty Betty Weekly Run Club
DESCRIPTION:Join the Sweaty Betty run club every Saturday at 9am. \nAll abilities welcome. \nMeet at 9am at Sweaty Betty\, Chichester for 45 minutes.
URL:https://chichesterbid.co.uk/event/sweaty-betty-weekly-run-club/2028-09-16/
LOCATION:Sweaty Betty\, 51a South Street\, Chichester\, West Sussex\, PO19 1DS\, United Kingdom
CATEGORIES:Regular Events
ATTACH;FMTTYPE=image/jpeg:https://chichesterbid.co.uk/wp-content/uploads/2024/02/426336202_891359159580183_8292756840449639732_n.jpg
END:VEVENT
END:VCALENDAR