BEGIN:VCALENDAR
VERSION:2.0
PRODID:-//Chichester BID - ECPv6.15.20//NONSGML v1.0//EN
CALSCALE:GREGORIAN
METHOD:PUBLISH
X-WR-CALNAME:Chichester BID
X-ORIGINAL-URL:https://chichesterbid.co.uk
X-WR-CALDESC:Events for Chichester BID
REFRESH-INTERVAL;VALUE=DURATION:PT1H
X-Robots-Tag:noindex
X-PUBLISHED-TTL:PT1H
BEGIN:VTIMEZONE
TZID:UTC
BEGIN:STANDARD
TZOFFSETFROM:+0000
TZOFFSETTO:+0000
TZNAME:UTC
DTSTART:20240101T000000
END:STANDARD
END:VTIMEZONE
BEGIN:VEVENT
DTSTART;TZID=UTC:20250806T200000
DTEND;TZID=UTC:20250806T200000
DTSTAMP:20260421T223029
CREATED:20240213T144051Z
LAST-MODIFIED:20240213T144051Z
UID:10009997-1754510400-1754510400@chichesterbid.co.uk
SUMMARY:Quiz Night at The George and Dragon Inn
DESCRIPTION:Join the George and Dragon for their weekly Quiz Night. \nEvery Wednesday. \nFrom 8pm.
URL:https://chichesterbid.co.uk/event/quiz-night-at-the-george-and-dragon-inn/2025-08-06/
LOCATION:The George and Dragon Inn\, 51 North Street\, Chichester\, West Sussex\, PO19 1NQ\, United Kingdom
CATEGORIES:Alive after Five,Regular Events
ATTACH;FMTTYPE=image/jpeg:https://chichesterbid.co.uk/wp-content/uploads/2024/02/Screenshot_20240213_143425_Facebook.jpg
END:VEVENT
BEGIN:VEVENT
DTSTART;TZID=UTC:20250730T200000
DTEND;TZID=UTC:20250730T200000
DTSTAMP:20260421T223029
CREATED:20240213T144051Z
LAST-MODIFIED:20240213T144051Z
UID:10009996-1753905600-1753905600@chichesterbid.co.uk
SUMMARY:Quiz Night at The George and Dragon Inn
DESCRIPTION:Join the George and Dragon for their weekly Quiz Night. \nEvery Wednesday. \nFrom 8pm.
URL:https://chichesterbid.co.uk/event/quiz-night-at-the-george-and-dragon-inn/2025-07-30/
LOCATION:The George and Dragon Inn\, 51 North Street\, Chichester\, West Sussex\, PO19 1NQ\, United Kingdom
CATEGORIES:Alive after Five,Regular Events
ATTACH;FMTTYPE=image/jpeg:https://chichesterbid.co.uk/wp-content/uploads/2024/02/Screenshot_20240213_143425_Facebook.jpg
END:VEVENT
BEGIN:VEVENT
DTSTART;TZID=UTC:20250723T200000
DTEND;TZID=UTC:20250723T200000
DTSTAMP:20260421T223029
CREATED:20240213T144051Z
LAST-MODIFIED:20240213T144051Z
UID:10009995-1753300800-1753300800@chichesterbid.co.uk
SUMMARY:Quiz Night at The George and Dragon Inn
DESCRIPTION:Join the George and Dragon for their weekly Quiz Night. \nEvery Wednesday. \nFrom 8pm.
URL:https://chichesterbid.co.uk/event/quiz-night-at-the-george-and-dragon-inn/2025-07-23/
LOCATION:The George and Dragon Inn\, 51 North Street\, Chichester\, West Sussex\, PO19 1NQ\, United Kingdom
CATEGORIES:Alive after Five,Regular Events
ATTACH;FMTTYPE=image/jpeg:https://chichesterbid.co.uk/wp-content/uploads/2024/02/Screenshot_20240213_143425_Facebook.jpg
END:VEVENT
BEGIN:VEVENT
DTSTART;TZID=UTC:20250716T200000
DTEND;TZID=UTC:20250716T200000
DTSTAMP:20260421T223029
CREATED:20240213T144051Z
LAST-MODIFIED:20240213T144051Z
UID:10009994-1752696000-1752696000@chichesterbid.co.uk
SUMMARY:Quiz Night at The George and Dragon Inn
DESCRIPTION:Join the George and Dragon for their weekly Quiz Night. \nEvery Wednesday. \nFrom 8pm.
URL:https://chichesterbid.co.uk/event/quiz-night-at-the-george-and-dragon-inn/2025-07-16/
LOCATION:The George and Dragon Inn\, 51 North Street\, Chichester\, West Sussex\, PO19 1NQ\, United Kingdom
CATEGORIES:Alive after Five,Regular Events
ATTACH;FMTTYPE=image/jpeg:https://chichesterbid.co.uk/wp-content/uploads/2024/02/Screenshot_20240213_143425_Facebook.jpg
END:VEVENT
BEGIN:VEVENT
DTSTART;TZID=UTC:20250709T200000
DTEND;TZID=UTC:20250709T200000
DTSTAMP:20260421T223029
CREATED:20240213T144051Z
LAST-MODIFIED:20240213T144051Z
UID:10009993-1752091200-1752091200@chichesterbid.co.uk
SUMMARY:Quiz Night at The George and Dragon Inn
DESCRIPTION:Join the George and Dragon for their weekly Quiz Night. \nEvery Wednesday. \nFrom 8pm.
URL:https://chichesterbid.co.uk/event/quiz-night-at-the-george-and-dragon-inn/2025-07-09/
LOCATION:The George and Dragon Inn\, 51 North Street\, Chichester\, West Sussex\, PO19 1NQ\, United Kingdom
CATEGORIES:Alive after Five,Regular Events
ATTACH;FMTTYPE=image/jpeg:https://chichesterbid.co.uk/wp-content/uploads/2024/02/Screenshot_20240213_143425_Facebook.jpg
END:VEVENT
BEGIN:VEVENT
DTSTART;TZID=UTC:20250702T200000
DTEND;TZID=UTC:20250702T200000
DTSTAMP:20260421T223029
CREATED:20240213T144051Z
LAST-MODIFIED:20240213T144051Z
UID:10009992-1751486400-1751486400@chichesterbid.co.uk
SUMMARY:Quiz Night at The George and Dragon Inn
DESCRIPTION:Join the George and Dragon for their weekly Quiz Night. \nEvery Wednesday. \nFrom 8pm.
URL:https://chichesterbid.co.uk/event/quiz-night-at-the-george-and-dragon-inn/2025-07-02/
LOCATION:The George and Dragon Inn\, 51 North Street\, Chichester\, West Sussex\, PO19 1NQ\, United Kingdom
CATEGORIES:Alive after Five,Regular Events
ATTACH;FMTTYPE=image/jpeg:https://chichesterbid.co.uk/wp-content/uploads/2024/02/Screenshot_20240213_143425_Facebook.jpg
END:VEVENT
BEGIN:VEVENT
DTSTART;TZID=UTC:20250625T200000
DTEND;TZID=UTC:20250625T200000
DTSTAMP:20260421T223029
CREATED:20240213T144051Z
LAST-MODIFIED:20240213T144051Z
UID:10009991-1750881600-1750881600@chichesterbid.co.uk
SUMMARY:Quiz Night at The George and Dragon Inn
DESCRIPTION:Join the George and Dragon for their weekly Quiz Night. \nEvery Wednesday. \nFrom 8pm.
URL:https://chichesterbid.co.uk/event/quiz-night-at-the-george-and-dragon-inn/2025-06-25/
LOCATION:The George and Dragon Inn\, 51 North Street\, Chichester\, West Sussex\, PO19 1NQ\, United Kingdom
CATEGORIES:Alive after Five,Regular Events
ATTACH;FMTTYPE=image/jpeg:https://chichesterbid.co.uk/wp-content/uploads/2024/02/Screenshot_20240213_143425_Facebook.jpg
END:VEVENT
BEGIN:VEVENT
DTSTART;TZID=UTC:20250622T150000
DTEND;TZID=UTC:20250622T210000
DTSTAMP:20260421T223029
CREATED:20250527T113541Z
LAST-MODIFIED:20250527T113541Z
UID:10024202-1750604400-1750626000@chichesterbid.co.uk
SUMMARY:Grooves at The George
DESCRIPTION:DJs are taking over our much loved George and Dragon for a Garden Party of EPIC proportions. ☀️ \nJoin us for a boozy BBQ\, vodka slush’s and only the best in House\, Garage and Disco! Resident h2o_music\, itsdjarcher and croftzuk will be bringing the heat\, all you need to do is dance 🕺 \nJoin us from 3pm all the the way through till 9pm\, and help us kick off the Grooviest Summer YET 🍾
URL:https://chichesterbid.co.uk/event/grooves-at-the-george/
LOCATION:The George and Dragon Inn\, 51 North Street\, Chichester\, West Sussex\, PO19 1NQ\, United Kingdom
CATEGORIES:Alive after Five
ATTACH;FMTTYPE=image/jpeg:https://chichesterbid.co.uk/wp-content/uploads/2025/05/500210817_1281932837270264_3033954638184569755_n.jpg
END:VEVENT
BEGIN:VEVENT
DTSTART;TZID=UTC:20250618T200000
DTEND;TZID=UTC:20250618T200000
DTSTAMP:20260421T223029
CREATED:20240213T144051Z
LAST-MODIFIED:20240213T144051Z
UID:10009990-1750276800-1750276800@chichesterbid.co.uk
SUMMARY:Quiz Night at The George and Dragon Inn
DESCRIPTION:Join the George and Dragon for their weekly Quiz Night. \nEvery Wednesday. \nFrom 8pm.
URL:https://chichesterbid.co.uk/event/quiz-night-at-the-george-and-dragon-inn/2025-06-18/
LOCATION:The George and Dragon Inn\, 51 North Street\, Chichester\, West Sussex\, PO19 1NQ\, United Kingdom
CATEGORIES:Alive after Five,Regular Events
ATTACH;FMTTYPE=image/jpeg:https://chichesterbid.co.uk/wp-content/uploads/2024/02/Screenshot_20240213_143425_Facebook.jpg
END:VEVENT
BEGIN:VEVENT
DTSTART;TZID=UTC:20250611T200000
DTEND;TZID=UTC:20250611T200000
DTSTAMP:20260421T223029
CREATED:20240213T144051Z
LAST-MODIFIED:20240213T144051Z
UID:10009989-1749672000-1749672000@chichesterbid.co.uk
SUMMARY:Quiz Night at The George and Dragon Inn
DESCRIPTION:Join the George and Dragon for their weekly Quiz Night. \nEvery Wednesday. \nFrom 8pm.
URL:https://chichesterbid.co.uk/event/quiz-night-at-the-george-and-dragon-inn/2025-06-11/
LOCATION:The George and Dragon Inn\, 51 North Street\, Chichester\, West Sussex\, PO19 1NQ\, United Kingdom
CATEGORIES:Alive after Five,Regular Events
ATTACH;FMTTYPE=image/jpeg:https://chichesterbid.co.uk/wp-content/uploads/2024/02/Screenshot_20240213_143425_Facebook.jpg
END:VEVENT
BEGIN:VEVENT
DTSTART;TZID=UTC:20250604T200000
DTEND;TZID=UTC:20250604T200000
DTSTAMP:20260421T223029
CREATED:20240213T144051Z
LAST-MODIFIED:20240213T144051Z
UID:10009988-1749067200-1749067200@chichesterbid.co.uk
SUMMARY:Quiz Night at The George and Dragon Inn
DESCRIPTION:Join the George and Dragon for their weekly Quiz Night. \nEvery Wednesday. \nFrom 8pm.
URL:https://chichesterbid.co.uk/event/quiz-night-at-the-george-and-dragon-inn/2025-06-04/
LOCATION:The George and Dragon Inn\, 51 North Street\, Chichester\, West Sussex\, PO19 1NQ\, United Kingdom
CATEGORIES:Alive after Five,Regular Events
ATTACH;FMTTYPE=image/jpeg:https://chichesterbid.co.uk/wp-content/uploads/2024/02/Screenshot_20240213_143425_Facebook.jpg
END:VEVENT
BEGIN:VEVENT
DTSTART;TZID=UTC:20250528T200000
DTEND;TZID=UTC:20250528T200000
DTSTAMP:20260421T223029
CREATED:20240213T144051Z
LAST-MODIFIED:20240213T144051Z
UID:10009987-1748462400-1748462400@chichesterbid.co.uk
SUMMARY:Quiz Night at The George and Dragon Inn
DESCRIPTION:Join the George and Dragon for their weekly Quiz Night. \nEvery Wednesday. \nFrom 8pm.
URL:https://chichesterbid.co.uk/event/quiz-night-at-the-george-and-dragon-inn/2025-05-28/
LOCATION:The George and Dragon Inn\, 51 North Street\, Chichester\, West Sussex\, PO19 1NQ\, United Kingdom
CATEGORIES:Alive after Five,Regular Events
ATTACH;FMTTYPE=image/jpeg:https://chichesterbid.co.uk/wp-content/uploads/2024/02/Screenshot_20240213_143425_Facebook.jpg
END:VEVENT
BEGIN:VEVENT
DTSTART;TZID=UTC:20250521T200000
DTEND;TZID=UTC:20250521T200000
DTSTAMP:20260421T223029
CREATED:20240213T144051Z
LAST-MODIFIED:20240213T144051Z
UID:10009986-1747857600-1747857600@chichesterbid.co.uk
SUMMARY:Quiz Night at The George and Dragon Inn
DESCRIPTION:Join the George and Dragon for their weekly Quiz Night. \nEvery Wednesday. \nFrom 8pm.
URL:https://chichesterbid.co.uk/event/quiz-night-at-the-george-and-dragon-inn/2025-05-21/
LOCATION:The George and Dragon Inn\, 51 North Street\, Chichester\, West Sussex\, PO19 1NQ\, United Kingdom
CATEGORIES:Alive after Five,Regular Events
ATTACH;FMTTYPE=image/jpeg:https://chichesterbid.co.uk/wp-content/uploads/2024/02/Screenshot_20240213_143425_Facebook.jpg
END:VEVENT
BEGIN:VEVENT
DTSTART;TZID=UTC:20250514T200000
DTEND;TZID=UTC:20250514T200000
DTSTAMP:20260421T223029
CREATED:20240213T144051Z
LAST-MODIFIED:20240213T144051Z
UID:10009985-1747252800-1747252800@chichesterbid.co.uk
SUMMARY:Quiz Night at The George and Dragon Inn
DESCRIPTION:Join the George and Dragon for their weekly Quiz Night. \nEvery Wednesday. \nFrom 8pm.
URL:https://chichesterbid.co.uk/event/quiz-night-at-the-george-and-dragon-inn/2025-05-14/
LOCATION:The George and Dragon Inn\, 51 North Street\, Chichester\, West Sussex\, PO19 1NQ\, United Kingdom
CATEGORIES:Alive after Five,Regular Events
ATTACH;FMTTYPE=image/jpeg:https://chichesterbid.co.uk/wp-content/uploads/2024/02/Screenshot_20240213_143425_Facebook.jpg
END:VEVENT
BEGIN:VEVENT
DTSTART;TZID=UTC:20250507T200000
DTEND;TZID=UTC:20250507T200000
DTSTAMP:20260421T223029
CREATED:20240213T144051Z
LAST-MODIFIED:20240213T144051Z
UID:10009984-1746648000-1746648000@chichesterbid.co.uk
SUMMARY:Quiz Night at The George and Dragon Inn
DESCRIPTION:Join the George and Dragon for their weekly Quiz Night. \nEvery Wednesday. \nFrom 8pm.
URL:https://chichesterbid.co.uk/event/quiz-night-at-the-george-and-dragon-inn/2025-05-07/
LOCATION:The George and Dragon Inn\, 51 North Street\, Chichester\, West Sussex\, PO19 1NQ\, United Kingdom
CATEGORIES:Alive after Five,Regular Events
ATTACH;FMTTYPE=image/jpeg:https://chichesterbid.co.uk/wp-content/uploads/2024/02/Screenshot_20240213_143425_Facebook.jpg
END:VEVENT
BEGIN:VEVENT
DTSTART;TZID=UTC:20250430T200000
DTEND;TZID=UTC:20250430T200000
DTSTAMP:20260421T223029
CREATED:20240213T144051Z
LAST-MODIFIED:20240213T144051Z
UID:10009983-1746043200-1746043200@chichesterbid.co.uk
SUMMARY:Quiz Night at The George and Dragon Inn
DESCRIPTION:Join the George and Dragon for their weekly Quiz Night. \nEvery Wednesday. \nFrom 8pm.
URL:https://chichesterbid.co.uk/event/quiz-night-at-the-george-and-dragon-inn/2025-04-30/
LOCATION:The George and Dragon Inn\, 51 North Street\, Chichester\, West Sussex\, PO19 1NQ\, United Kingdom
CATEGORIES:Alive after Five,Regular Events
ATTACH;FMTTYPE=image/jpeg:https://chichesterbid.co.uk/wp-content/uploads/2024/02/Screenshot_20240213_143425_Facebook.jpg
END:VEVENT
BEGIN:VEVENT
DTSTART;TZID=UTC:20250423T200000
DTEND;TZID=UTC:20250423T200000
DTSTAMP:20260421T223029
CREATED:20240213T144051Z
LAST-MODIFIED:20240213T144051Z
UID:10009982-1745438400-1745438400@chichesterbid.co.uk
SUMMARY:Quiz Night at The George and Dragon Inn
DESCRIPTION:Join the George and Dragon for their weekly Quiz Night. \nEvery Wednesday. \nFrom 8pm.
URL:https://chichesterbid.co.uk/event/quiz-night-at-the-george-and-dragon-inn/2025-04-23/
LOCATION:The George and Dragon Inn\, 51 North Street\, Chichester\, West Sussex\, PO19 1NQ\, United Kingdom
CATEGORIES:Alive after Five,Regular Events
ATTACH;FMTTYPE=image/jpeg:https://chichesterbid.co.uk/wp-content/uploads/2024/02/Screenshot_20240213_143425_Facebook.jpg
END:VEVENT
BEGIN:VEVENT
DTSTART;TZID=UTC:20250416T200000
DTEND;TZID=UTC:20250416T200000
DTSTAMP:20260421T223029
CREATED:20240213T144051Z
LAST-MODIFIED:20240213T144051Z
UID:10009981-1744833600-1744833600@chichesterbid.co.uk
SUMMARY:Quiz Night at The George and Dragon Inn
DESCRIPTION:Join the George and Dragon for their weekly Quiz Night. \nEvery Wednesday. \nFrom 8pm.
URL:https://chichesterbid.co.uk/event/quiz-night-at-the-george-and-dragon-inn/2025-04-16/
LOCATION:The George and Dragon Inn\, 51 North Street\, Chichester\, West Sussex\, PO19 1NQ\, United Kingdom
CATEGORIES:Alive after Five,Regular Events
ATTACH;FMTTYPE=image/jpeg:https://chichesterbid.co.uk/wp-content/uploads/2024/02/Screenshot_20240213_143425_Facebook.jpg
END:VEVENT
BEGIN:VEVENT
DTSTART;TZID=UTC:20250411T200000
DTEND;TZID=UTC:20250411T230000
DTSTAMP:20260421T223029
CREATED:20250402T130110Z
LAST-MODIFIED:20250402T130110Z
UID:10022929-1744401600-1744412400@chichesterbid.co.uk
SUMMARY:Open Mic Night at The George & Dragon Inn
DESCRIPTION:Join The George & Dragon Inn for their Monthly Open Mic Night\, hosted by Adam Eve. \nFree to perform and you can perform anything from comedy\, karaoke or bring your guitar and sing along with it. It’s just about having a good night and supporting each other.
URL:https://chichesterbid.co.uk/event/open-mic-night-at-the-george-dragon-inn/
LOCATION:The George and Dragon Inn\, 51 North Street\, Chichester\, West Sussex\, PO19 1NQ\, United Kingdom
CATEGORIES:Alive after Five,Regular Events
ATTACH;FMTTYPE=image/avif:https://chichesterbid.co.uk/wp-content/uploads/2025/04/60613c52-f02e-4591-b727-6ef092c230c1.avif
END:VEVENT
BEGIN:VEVENT
DTSTART;TZID=UTC:20250409T200000
DTEND;TZID=UTC:20250409T200000
DTSTAMP:20260421T223029
CREATED:20240213T144051Z
LAST-MODIFIED:20240213T144051Z
UID:10009980-1744228800-1744228800@chichesterbid.co.uk
SUMMARY:Quiz Night at The George and Dragon Inn
DESCRIPTION:Join the George and Dragon for their weekly Quiz Night. \nEvery Wednesday. \nFrom 8pm.
URL:https://chichesterbid.co.uk/event/quiz-night-at-the-george-and-dragon-inn/2025-04-09/
LOCATION:The George and Dragon Inn\, 51 North Street\, Chichester\, West Sussex\, PO19 1NQ\, United Kingdom
CATEGORIES:Alive after Five,Regular Events
ATTACH;FMTTYPE=image/jpeg:https://chichesterbid.co.uk/wp-content/uploads/2024/02/Screenshot_20240213_143425_Facebook.jpg
END:VEVENT
BEGIN:VEVENT
DTSTART;TZID=UTC:20250402T200000
DTEND;TZID=UTC:20250402T200000
DTSTAMP:20260421T223029
CREATED:20240213T144051Z
LAST-MODIFIED:20240213T144051Z
UID:10009979-1743624000-1743624000@chichesterbid.co.uk
SUMMARY:Quiz Night at The George and Dragon Inn
DESCRIPTION:Join the George and Dragon for their weekly Quiz Night. \nEvery Wednesday. \nFrom 8pm.
URL:https://chichesterbid.co.uk/event/quiz-night-at-the-george-and-dragon-inn/2025-04-02/
LOCATION:The George and Dragon Inn\, 51 North Street\, Chichester\, West Sussex\, PO19 1NQ\, United Kingdom
CATEGORIES:Alive after Five,Regular Events
ATTACH;FMTTYPE=image/jpeg:https://chichesterbid.co.uk/wp-content/uploads/2024/02/Screenshot_20240213_143425_Facebook.jpg
END:VEVENT
BEGIN:VEVENT
DTSTART;TZID=UTC:20250326T200000
DTEND;TZID=UTC:20250326T200000
DTSTAMP:20260421T223029
CREATED:20240213T144051Z
LAST-MODIFIED:20240213T144051Z
UID:10009978-1743019200-1743019200@chichesterbid.co.uk
SUMMARY:Quiz Night at The George and Dragon Inn
DESCRIPTION:Join the George and Dragon for their weekly Quiz Night. \nEvery Wednesday. \nFrom 8pm.
URL:https://chichesterbid.co.uk/event/quiz-night-at-the-george-and-dragon-inn/2025-03-26/
LOCATION:The George and Dragon Inn\, 51 North Street\, Chichester\, West Sussex\, PO19 1NQ\, United Kingdom
CATEGORIES:Alive after Five,Regular Events
ATTACH;FMTTYPE=image/jpeg:https://chichesterbid.co.uk/wp-content/uploads/2024/02/Screenshot_20240213_143425_Facebook.jpg
END:VEVENT
BEGIN:VEVENT
DTSTART;TZID=UTC:20250319T200000
DTEND;TZID=UTC:20250319T200000
DTSTAMP:20260421T223029
CREATED:20240213T144051Z
LAST-MODIFIED:20240213T144051Z
UID:10009977-1742414400-1742414400@chichesterbid.co.uk
SUMMARY:Quiz Night at The George and Dragon Inn
DESCRIPTION:Join the George and Dragon for their weekly Quiz Night. \nEvery Wednesday. \nFrom 8pm.
URL:https://chichesterbid.co.uk/event/quiz-night-at-the-george-and-dragon-inn/2025-03-19/
LOCATION:The George and Dragon Inn\, 51 North Street\, Chichester\, West Sussex\, PO19 1NQ\, United Kingdom
CATEGORIES:Alive after Five,Regular Events
ATTACH;FMTTYPE=image/jpeg:https://chichesterbid.co.uk/wp-content/uploads/2024/02/Screenshot_20240213_143425_Facebook.jpg
END:VEVENT
BEGIN:VEVENT
DTSTART;TZID=UTC:20250312T200000
DTEND;TZID=UTC:20250312T200000
DTSTAMP:20260421T223029
CREATED:20240213T144051Z
LAST-MODIFIED:20240213T144051Z
UID:10009976-1741809600-1741809600@chichesterbid.co.uk
SUMMARY:Quiz Night at The George and Dragon Inn
DESCRIPTION:Join the George and Dragon for their weekly Quiz Night. \nEvery Wednesday. \nFrom 8pm.
URL:https://chichesterbid.co.uk/event/quiz-night-at-the-george-and-dragon-inn/2025-03-12/
LOCATION:The George and Dragon Inn\, 51 North Street\, Chichester\, West Sussex\, PO19 1NQ\, United Kingdom
CATEGORIES:Alive after Five,Regular Events
ATTACH;FMTTYPE=image/jpeg:https://chichesterbid.co.uk/wp-content/uploads/2024/02/Screenshot_20240213_143425_Facebook.jpg
END:VEVENT
BEGIN:VEVENT
DTSTART;TZID=UTC:20250305T200000
DTEND;TZID=UTC:20250305T200000
DTSTAMP:20260421T223029
CREATED:20240213T144051Z
LAST-MODIFIED:20240213T144051Z
UID:10009975-1741204800-1741204800@chichesterbid.co.uk
SUMMARY:Quiz Night at The George and Dragon Inn
DESCRIPTION:Join the George and Dragon for their weekly Quiz Night. \nEvery Wednesday. \nFrom 8pm.
URL:https://chichesterbid.co.uk/event/quiz-night-at-the-george-and-dragon-inn/2025-03-05/
LOCATION:The George and Dragon Inn\, 51 North Street\, Chichester\, West Sussex\, PO19 1NQ\, United Kingdom
CATEGORIES:Alive after Five,Regular Events
ATTACH;FMTTYPE=image/jpeg:https://chichesterbid.co.uk/wp-content/uploads/2024/02/Screenshot_20240213_143425_Facebook.jpg
END:VEVENT
BEGIN:VEVENT
DTSTART;TZID=UTC:20250226T200000
DTEND;TZID=UTC:20250226T200000
DTSTAMP:20260421T223029
CREATED:20240213T144051Z
LAST-MODIFIED:20240213T144051Z
UID:10009974-1740600000-1740600000@chichesterbid.co.uk
SUMMARY:Quiz Night at The George and Dragon Inn
DESCRIPTION:Join the George and Dragon for their weekly Quiz Night. \nEvery Wednesday. \nFrom 8pm.
URL:https://chichesterbid.co.uk/event/quiz-night-at-the-george-and-dragon-inn/2025-02-26/
LOCATION:The George and Dragon Inn\, 51 North Street\, Chichester\, West Sussex\, PO19 1NQ\, United Kingdom
CATEGORIES:Alive after Five,Regular Events
ATTACH;FMTTYPE=image/jpeg:https://chichesterbid.co.uk/wp-content/uploads/2024/02/Screenshot_20240213_143425_Facebook.jpg
END:VEVENT
BEGIN:VEVENT
DTSTART;TZID=UTC:20250219T200000
DTEND;TZID=UTC:20250219T200000
DTSTAMP:20260421T223029
CREATED:20240213T144051Z
LAST-MODIFIED:20240213T144051Z
UID:10009973-1739995200-1739995200@chichesterbid.co.uk
SUMMARY:Quiz Night at The George and Dragon Inn
DESCRIPTION:Join the George and Dragon for their weekly Quiz Night. \nEvery Wednesday. \nFrom 8pm.
URL:https://chichesterbid.co.uk/event/quiz-night-at-the-george-and-dragon-inn/2025-02-19/
LOCATION:The George and Dragon Inn\, 51 North Street\, Chichester\, West Sussex\, PO19 1NQ\, United Kingdom
CATEGORIES:Alive after Five,Regular Events
ATTACH;FMTTYPE=image/jpeg:https://chichesterbid.co.uk/wp-content/uploads/2024/02/Screenshot_20240213_143425_Facebook.jpg
END:VEVENT
BEGIN:VEVENT
DTSTART;TZID=UTC:20250212T200000
DTEND;TZID=UTC:20250212T200000
DTSTAMP:20260421T223029
CREATED:20240213T144051Z
LAST-MODIFIED:20240213T144051Z
UID:10009972-1739390400-1739390400@chichesterbid.co.uk
SUMMARY:Quiz Night at The George and Dragon Inn
DESCRIPTION:Join the George and Dragon for their weekly Quiz Night. \nEvery Wednesday. \nFrom 8pm.
URL:https://chichesterbid.co.uk/event/quiz-night-at-the-george-and-dragon-inn/2025-02-12/
LOCATION:The George and Dragon Inn\, 51 North Street\, Chichester\, West Sussex\, PO19 1NQ\, United Kingdom
CATEGORIES:Alive after Five,Regular Events
ATTACH;FMTTYPE=image/jpeg:https://chichesterbid.co.uk/wp-content/uploads/2024/02/Screenshot_20240213_143425_Facebook.jpg
END:VEVENT
BEGIN:VEVENT
DTSTART;TZID=UTC:20250205T200000
DTEND;TZID=UTC:20250205T200000
DTSTAMP:20260421T223029
CREATED:20240213T144051Z
LAST-MODIFIED:20240213T144051Z
UID:10009971-1738785600-1738785600@chichesterbid.co.uk
SUMMARY:Quiz Night at The George and Dragon Inn
DESCRIPTION:Join the George and Dragon for their weekly Quiz Night. \nEvery Wednesday. \nFrom 8pm.
URL:https://chichesterbid.co.uk/event/quiz-night-at-the-george-and-dragon-inn/2025-02-05/
LOCATION:The George and Dragon Inn\, 51 North Street\, Chichester\, West Sussex\, PO19 1NQ\, United Kingdom
CATEGORIES:Alive after Five,Regular Events
ATTACH;FMTTYPE=image/jpeg:https://chichesterbid.co.uk/wp-content/uploads/2024/02/Screenshot_20240213_143425_Facebook.jpg
END:VEVENT
BEGIN:VEVENT
DTSTART;TZID=UTC:20250129T200000
DTEND;TZID=UTC:20250129T200000
DTSTAMP:20260421T223029
CREATED:20240213T144051Z
LAST-MODIFIED:20240213T144051Z
UID:10009970-1738180800-1738180800@chichesterbid.co.uk
SUMMARY:Quiz Night at The George and Dragon Inn
DESCRIPTION:Join the George and Dragon for their weekly Quiz Night. \nEvery Wednesday. \nFrom 8pm.
URL:https://chichesterbid.co.uk/event/quiz-night-at-the-george-and-dragon-inn/2025-01-29/
LOCATION:The George and Dragon Inn\, 51 North Street\, Chichester\, West Sussex\, PO19 1NQ\, United Kingdom
CATEGORIES:Alive after Five,Regular Events
ATTACH;FMTTYPE=image/jpeg:https://chichesterbid.co.uk/wp-content/uploads/2024/02/Screenshot_20240213_143425_Facebook.jpg
END:VEVENT
END:VCALENDAR